BEGIN:VCALENDAR
VERSION:2.0
PRODID:-//theartdiggerlab - ECPv6.15.1.1//NONSGML v1.0//EN
CALSCALE:GREGORIAN
METHOD:PUBLISH
X-WR-CALNAME:theartdiggerlab
X-ORIGINAL-URL:https://www.theartdiggerlab.com/en
X-WR-CALDESC:Events for theartdiggerlab
REFRESH-INTERVAL;VALUE=DURATION:PT1H
X-Robots-Tag:noindex
X-PUBLISHED-TTL:PT1H
BEGIN:VTIMEZONE
TZID:Europe/Madrid
BEGIN:DAYLIGHT
TZOFFSETFROM:+0100
TZOFFSETTO:+0200
TZNAME:CEST
DTSTART:20180325T010000
END:DAYLIGHT
BEGIN:STANDARD
TZOFFSETFROM:+0200
TZOFFSETTO:+0100
TZNAME:CET
DTSTART:20181028T010000
END:STANDARD
BEGIN:DAYLIGHT
TZOFFSETFROM:+0100
TZOFFSETTO:+0200
TZNAME:CEST
DTSTART:20190331T010000
END:DAYLIGHT
BEGIN:STANDARD
TZOFFSETFROM:+0200
TZOFFSETTO:+0100
TZNAME:CET
DTSTART:20191027T010000
END:STANDARD
BEGIN:DAYLIGHT
TZOFFSETFROM:+0100
TZOFFSETTO:+0200
TZNAME:CEST
DTSTART:20200329T010000
END:DAYLIGHT
BEGIN:STANDARD
TZOFFSETFROM:+0200
TZOFFSETTO:+0100
TZNAME:CET
DTSTART:20201025T010000
END:STANDARD
END:VTIMEZONE
BEGIN:VEVENT
DTSTART;VALUE=DATE:20200514
DTEND;VALUE=DATE:20200517
DTSTAMP:20260423T223534
CREATED:20191106T131330Z
LAST-MODIFIED:20200506T030156Z
UID:4438-1589421600-1589594399@www.theartdiggerlab.com
SUMMARY:Edwige Fouvry II 2020
DESCRIPTION:Workshop de Pintura\n“Paisaje sintético”\nEste workshop forma parte de una bilogía que Edwige Fouvry va a impartir en Madrid. Aunque los estudiantes pueden elegir asistir a uno de los workshops de forma independiente\, éstos están diseñados para complementarse mutuamente. \n\n\n\n\n\n\n\n\nCONTENIDOS Y OBJETIVO \nPara este workshop\, empezaremos también con una corta introducción sobre el paisaje a lo largo de la historia del arte.\nEstudiaremos cómo la composición y el uso del color se han desarrollado desde los maestros antiguos a los contemporáneos. \nEntonces realizaré una breve demostración de pintura de paisaje.\nTras esto empezaremos a trabajar con tus propias fotografías .Te sugiero que traigas fotos de lugares que tengan un significado especial para tí. lugares en los que hayas estado por ejemplo. De esta manera te resultará mas fácil pensar a partir de la memoria de tus sentimientos de entonces..\nDe ellos extraeremos las lineas fundamentales y las trasladaremos al lienzo.\nCuando el dibujo este listo empezaremos con la pintura.. Prestaremos atención a la elección de colores\, el significado\, las sensaciones que pueden aportar los diferentes rangos de color.\nDurante todo este proceso\, trataré de guiarte y ayudarte a equilibrar formas\, intensidad\, contraste\, profundidad y balance de color.\nSerá éste un ejercicio para encontrar un correcto balance entre expresión y estética. \n\n\n\n\n\n\n\n\nDescubre mas sobre Edwige Fouvry\n \n\nDescarga el programa en Español en el siguiente enlace: \n\n	Edwige Fouvry II 2020 español\n\nDownload The english program in the following link: \n\n	Edwige Fouvry II 2020 english
URL:https://www.theartdiggerlab.com/en/evento/edwige-fouvry-i-2-2/
LOCATION:Atelier Villeneuve\, c/ Salaberry\, 89\, Madrid\, Madrid\, 28019\, España
CATEGORIES:Bilogía,Edwige Fouvry,Workshop de pintura
ATTACH;FMTTYPE=image/jpeg:https://www.theartdiggerlab.com/wp-content/uploads/2019/11/19_01_21_edwige-016.jpg
END:VEVENT
BEGIN:VEVENT
DTSTART;VALUE=DATE:20200511
DTEND;VALUE=DATE:20200514
DTSTAMP:20260423T223534
CREATED:20191106T130916Z
LAST-MODIFIED:20200506T030856Z
UID:4434-1589162400-1589335199@www.theartdiggerlab.com
SUMMARY:Edwige Fouvry I 2020
DESCRIPTION:Workshop de Pintura\n“Modelo y expresión”\nEste workshop forma parte de una bilogía que Edwige Fouvry va a impartir en Madrid. Aunque los estudiantes pueden elegir asistir a uno de los workshops de forma independiente\, éstos están diseñados para complementarse mutuamente. \n\n\n\n\nOBJETIVOS Y CONTENIDO\nPrimero\, explicaré la evolución de la representación del cuerpo humano a través de la historia del arte.\nLuego observaremos cómo el modelo es representado por diferentes artistas y cuáles son los sentimientos que nos comunican.\nDespués de esta explicación\, primero dibujaremos\, moviéndonos de un lugar a otro alrededor del modelo para comprender los volúmenes y las proporciones.\nTambién haré una demostración de cómo encontrar las líneas y volúmenes principales de construcción correctos.\nLuego\, trabajaremos en la paleta para crear los colores de la piel\, pero también para extender esta paleta a colores inusuales para crear sensaciones\, intensidad y reforzar los contrastes.\nTe animaré y te ayudaré a superar los límites académicos\, jugaremos con colores\, formas\, composición\, grosor y capas de pintura ligera\, para agregar nuevas herramientas a tu propio vocabulario artístico. \n\n\n\n\nDescubre mas sobre Edwige Fouvry\n \n\nDescarga el programa en Español en el siguiente enlace: \n\n	Edwige Fouvry I 2020 español\n\nDownload The english program in the following link: \n\n	Edwige Fouvry I 2020 english
URL:https://www.theartdiggerlab.com/en/evento/edwige-fouvry-i-2/
LOCATION:Atelier Villeneuve\, c/ Salaberry\, 89\, Madrid\, Madrid\, 28019\, España
CATEGORIES:Bilogía,Edwige Fouvry,Workshop de pintura
ATTACH;FMTTYPE=image/jpeg:https://www.theartdiggerlab.com/wp-content/uploads/2019/11/2017_10_edwige_michaeldeplaen_006.jpg
END:VEVENT
BEGIN:VEVENT
DTSTART;VALUE=DATE:20191017
DTEND;VALUE=DATE:20191020
DTSTAMP:20260423T223534
CREATED:20190410T064009Z
LAST-MODIFIED:20190410T074550Z
UID:4094-1571277600-1571450399@www.theartdiggerlab.com
SUMMARY:Brendan Kelly II
DESCRIPTION:Un Workshop para Pintores\nLa referencia visual: trabajando de fotos\nEl natural y la percepción\n\nCONTENIDO y OBJETIVOS: \n\n\n\n\n\n\n\n\nEn nuestra era digital\, parece que muchos artistas recurren automáticamente al uso de las fotos como referencia para su trabajo.\nEste taller examinará algunas de las cuestiones que rodean a la pregunta «¿Cómo debemos pintar o dibujar de las fotos los artistas figurativos?». \nConsideraremos si las fotos representan verdaderamente nuestra percepción del natural e investigaremos si las fotos son un punto de partida realmente apropiado o simplemente conveniente para que los artistas figurativos pinten o dibujen.\nEn el transcurso de los dos días del curso\, a través de coloquios y ejercicios prácticos\, investigaremos una serie de preguntas entre las que se incluyen: \n\n¿Cuáles son las ventajas y desventajas de usar fotos para informar nuestras percepciones visuales del tema?\n¿Cómo afecta nuestra lectura de una foto a nuestro proceso de pintura o dibujo y\, por lo tanto\, a nuestros resultados finales?\n¿Podría nuestra respuesta a una «pintura en progreso» re-informar nuestra lectura de la foto de referencia?\n¿Es más veraz copiar una foto exactamente o usarla simplemente como una ayuda para la memoria?\nEn última instancia\, ¿pintar o dibujar de una foto es una trampa o un medio de visión más profundo?\n\nBrendan hablará sobre sus pensamientos y descubrimientos sobre estos temas y mostrará a los estudiantes cómo estas preguntas han desarrollado su proceso de pensamiento\, sus técnicas y su trabajo. \n\n\n\n\n\n\n\n\nDescubre mas sobre Brendan Kelly\n \nDescarga el programa en Español en el siguiente link: \nBrendan Kelly II\nDownload the english program in the following link: \nBrendan Kelly II english
URL:https://www.theartdiggerlab.com/en/evento/brendan-kelly-ii/
LOCATION:Atelier Villeneuve\, c/ Salaberry\, 89\, Madrid\, Madrid\, 28019\, España
CATEGORIES:A workshop for painters,Bilogía,Brendan Kelly
ATTACH;FMTTYPE=image/jpeg:https://www.theartdiggerlab.com/wp-content/uploads/2019/04/image1.jpeg
END:VEVENT
BEGIN:VEVENT
DTSTART;VALUE=DATE:20181203
DTEND;VALUE=DATE:20181205
DTSTAMP:20260423T223534
CREATED:20181002T151931Z
LAST-MODIFIED:20181011T205835Z
UID:3544-1543795200-1543967999@www.theartdiggerlab.com
SUMMARY:NICOLÁS URIBE II
DESCRIPTION:Workshop de Pintura\n12 plazas\nSi las plazas están completas puedes registrarte en la LISTA DE ESPERA\nescribiendo a admin@theartdiggerlab.com indicando el workshop en el que estas interesado\n y contactaremos contigo por orden de inscripción si queda alguna plaza libre\n“Diseño y expresión en el retrato”\nEste workshop forma parte de una bilogía que Nicolás Uribe va a impartir en Madrid. Aunque los estudiantes pueden elegir asistir a uno de los workshops de forma independiente\, éstos están diseñados para complementarse mutuamente. \nEl Retrato está formal e históricamente asociado con una representación fiel del modelo. Pero se pueden explorar posibilidades más expresivas cuando se parte desde un acto de aguda observación\, para luego traducir esas formas estructurales en composiciones dinámicas que le brindan un carácter más amplio a la definición de Retrato. En este taller exploraremos los límites a los que podemos llegar en esa búsqueda esencial  de la persona retratada\, pasando por la investigación de relaciones cromáticas entre las armonías de color seleccionadas\, así como la disposición\, proporción y/o distorsión de las estructuras volumétricas que le dan tridimensionalidad a la forma. Todo esto con la intención final de que los retratos no sólo describan desde una reflexión naturalista a la persona retratada\, sino que también se logre afirmar\, mediante las decisiones pictóricas\, una postura sensible basada en nuestra percepción. \nDescubre mas sobre Nicolás Uribe\n \n  \nDescarga el programa en Español en el siguiente link: \n\n	Nicolás Uribe II\n\nDownload the english program in the following link: \n\n	Nicolás Uribe II english
URL:https://www.theartdiggerlab.com/en/evento/nicolas-uribe-ii/
LOCATION:Atelier Villeneuve\, c/ Salaberry\, 89\, Madrid\, Madrid\, 28019\, España
CATEGORIES:Bilogía,Nicolas Uribe,Workshop de pintura
ATTACH;FMTTYPE=image/jpeg:https://www.theartdiggerlab.com/wp-content/uploads/2018/10/NU-retrato-wsop-II.jpg
END:VEVENT
BEGIN:VEVENT
DTSTART;VALUE=DATE:20181130
DTEND;VALUE=DATE:20181202
DTSTAMP:20260423T223534
CREATED:20181002T151807Z
LAST-MODIFIED:20181012T085227Z
UID:3525-1543536000-1543708799@www.theartdiggerlab.com
SUMMARY:NICOLÁS URIBE I
DESCRIPTION:Workshop de Pintura\n12 plazas\nSi las plazas están completas puedes registrarte en la LISTA DE ESPERA\nescribiendo a admin@theartdiggerlab.com indicando el workshop en el que estas interesado\n y contactaremos contigo por orden de inscripción si queda alguna plaza libre\n“Diseño y composición en la figura”\nEste workshop forma parte de una bilogía que Nicolás Uribe va a impartir en Madrid. Aunque los estudiantes pueden elegir asistir a uno de los workshops de forma independiente\, éstos están diseñados para complementarse mutuamente. \nUno de los deberes más importantes del artista al intentar resolver una pintura\, es  ejercer control sobre la composición. En una imagen figurativa es absolutamente necesario identificar las grandes relaciones que existen entre las formas abstractas que se inscriben en el cuerpo humano y las dinámicas que éstas generan con el espacio que lo rodea. Las decisiones que se toman en cuanto a las dimensiones de las formas\, el carácter del límite en el encuentro entre una forma y otra\, las relaciones cromáticas y el contraste tonal son de fundamental relevancia para comunicar con claridad la intención detrás de la imagen. \nEste taller está específicamente diseñado para encontrar posibilidades compositivas al trabajar del natural con el modelo. Se enfatizará la idea que el objetivo de la pintura debe comenzar con un ejercicio de representación\, para después utilizar la información que se colecciona al observar detenidamente para después reinterpretarla y reorganizarla en base a un designio particular.  \nDescubre mas sobre Nicolás Uribe\n \n  \nDescarga el programa en Español en el siguiente link: \n\n	Nicolás Uribe I\n\nDownload the english program in the following link: \n\n	Nicolás Uribe I english
URL:https://www.theartdiggerlab.com/en/evento/nicolas-uribe-i/
LOCATION:Atelier Villeneuve\, c/ Salaberry\, 89\, Madrid\, Madrid\, 28019\, España
CATEGORIES:Bilogía,Nicolas Uribe,Workshop de pintura
ATTACH;FMTTYPE=image/jpeg:https://www.theartdiggerlab.com/wp-content/uploads/2018/10/Luisita.jpg
END:VEVENT
BEGIN:VEVENT
DTSTART;VALUE=DATE:20180920
DTEND;VALUE=DATE:20180923
DTSTAMP:20260423T223534
CREATED:20180313T154722Z
LAST-MODIFIED:20180801T055531Z
UID:3083-1537408800-1537581599@www.theartdiggerlab.com
SUMMARY:Edwige Fouvry II
DESCRIPTION:Workshop de Pintura\n“El Paisaje Abstracto”\nEste workshop forma parte de una bilogía que Edwige Fouvry va a impartir en Madrid el próximo mes de septiembre. Aunque los estudiantes pueden elegir asistir a uno de los workshops de forma independiente\, éstos están diseñados para complementarse mutuamente. \nEl objetivo del workshop es aprender a crear una aproximación casi abstracta al paisaje; cómo aportar energía e interés; como perderse en él; cómo describir lo suficiente pero nunca demasiado.\nUtilizaremos todo tipo de utensilios y materiales: guantes\, paletas\, pinceles grandes\, etc para experimentar a fondo con las texturas. Por supuesto desde el principio aseguraremos tener una buena estructura y Edwige Fouvry explicará como construir las lineas maestras para poder tener la máxima libertad después.\nComo siempre\, tomaremos como referencia y hablaremos de los grandes maestros del paisaje a lo largo de la historia del arte. \nDescubre mas sobre Edwige Fouvry\n \n  \nDescarga el programa en Español en el siguiente link: \n\n	Programa Edwige Fouvry II\n\nDownload the english program in the following link: \n\n	Edwige Fouvry II Program
URL:https://www.theartdiggerlab.com/en/evento/edwige-fouvry-2/
LOCATION:Atelier Villeneuve\, c/ Salaberry\, 89\, Madrid\, Madrid\, 28019\, España
CATEGORIES:Bilogía,Edwige Fouvry,Workshop de pintura
ATTACH;FMTTYPE=image/jpeg:https://www.theartdiggerlab.com/wp-content/uploads/2018/03/Les-champs.jpg
END:VEVENT
BEGIN:VEVENT
DTSTART;VALUE=DATE:20180917
DTEND;VALUE=DATE:20180920
DTSTAMP:20260423T223534
CREATED:20180313T154151Z
LAST-MODIFIED:20180801T055123Z
UID:3065-1537149600-1537322399@www.theartdiggerlab.com
SUMMARY:Edwige Fouvry I
DESCRIPTION:Workshop de Pintura\n“El Retrato”\nEste workshop forma parte de una bilogía que Edwige Fouvry va a impartir en Madrid el próximo mes de septiembre. Aunque los estudiantes pueden elegir asistir a uno de los workshops de forma independiente\, éstos están diseñados para complementarse mutuamente. \nLos artistas participantes comenzarán a pintar tras la lección inicial en la que se establecerá el foco del Workshop. En la práctica pictórica los artistas intentarán poner en práctica los principios enunciados. Edwige Fouvry ira conversando individualmente con cada artista sobre su progreso.\nEl workshop comenzará con estudios clásicos (dibujos) de retratos\, atendiendo a la composición\, luces y volúmenes.\nPrestaremos especial atención a la paleta de color\, específicamente sobre los tonos de la piel\, las sombras\, etc. Tras esta etapa comenzará la pintura\, aprendiendo a mantener al mismo tiempo la expresión y el parecido. Edwige Fouvry conversara con cada artista explicando el papel que desempeñan los colores y como crear emociones\, armonía o tensión con ellos. Por supuesto la mirada sobre la historia del arte siempre servirá como referencia\, estudiando minuciosamente algunos retratos de los grandes maestros. \nDescubre mas sobre Edwige Fouvry\n \n\nDescarga el programa en Español en el siguiente enlace: \n\n	Programa Edwige Fouvry I\n\nDownload The english program in the following link: \n\n	Edwige Fouvry I Program
URL:https://www.theartdiggerlab.com/en/evento/edwige-fouvry-i/
LOCATION:Atelier Villeneuve\, c/ Salaberry\, 89\, Madrid\, Madrid\, 28019\, España
CATEGORIES:Bilogía,Edwige Fouvry
ATTACH;FMTTYPE=image/jpeg:https://www.theartdiggerlab.com/wp-content/uploads/2018/03/francois30x30.jpg
END:VEVENT
BEGIN:VEVENT
DTSTART;VALUE=DATE:20180614
DTEND;VALUE=DATE:20180617
DTSTAMP:20260423T223534
CREATED:20180225T183420Z
LAST-MODIFIED:20180424T092120Z
UID:2978-1528941600-1529114399@www.theartdiggerlab.com
SUMMARY:Alex Kanevsky II
DESCRIPTION:Workshop de pintura\n“Ser Pintor”\n\n\n\n\nEste workshop forma parte de una bilogía que Alex Kanevsky va a impartir en Madrid el próximo mes de junio. Aunque los estudiantes pueden elegir asistir a uno de los workshops de forma independiente\, éstos están diseñados para complementarse mutuamente. Cada uno de los workshops apunta al mismo objetivo pictórico desde dos aproximaciones diferentes pero complementarias. \nSe trabajara sobre modelo. Los artistas participantes comenzarán a pintar tras la lección inicial en la que se establecerá el foco del Workshop. En la práctica pictórica los artistas intentarán poner en práctica los principios enunciados. Alex Kanevsky ira conversando individualmente con cada artista sobre su progreso.\nEn el workshop «Ser Pintor» se intentara responder a muchas preguntas: ¿Por qué queremos reflejar la realidad en nuestra pintura? ¿Dónde están los límites sobre cuánto incluir? ¿Cómo uso mi yo\, mi visión\, mi vida\, mi psicología\, incluso mis limitaciones como instrumentos en la composición de una pintura? ¿Cómo resuelvo los problemas que siempre encuentro en el proceso pictórico? ¿Cuándo debo dejarlo? ¿Cómo sé cuándo está terminado? Ser creativo significa a menudo fracasar. ¿Cuánto puedo fallar? ¿Cómo se puede pintar gente? : están vivos y una pintura no lo esta. ¿Pinto lo que veo o lo que recuerdo haber visto? ¿Cómo hago que mi pintura sea propia? ¿Es una cuestión de estilo o hay algo más? \n\n\n\n\nDescubre mas sobre Alex Kanevsky\n \nDescarga el programa en español en el siguiente enlace: \n\n	Programa Alex Kanevsky II\n\nDownload the English program in the following link: \n\n	Alex Kanevsky II Program
URL:https://www.theartdiggerlab.com/en/evento/alex-kanevsky-2/
LOCATION:Facultad de Bellas Artes UCM\, c/ Pintor el Greco\, 2\, Madrid\, Madrid\, 28028\, España
CATEGORIES:Alex Kanevsky,Bilogía
ATTACH;FMTTYPE=image/jpeg:https://www.theartdiggerlab.com/wp-content/uploads/2018/02/alexkanevskylgi.jpg
END:VEVENT
BEGIN:VEVENT
DTSTART;VALUE=DATE:20180611
DTEND;VALUE=DATE:20180614
DTSTAMP:20260423T223534
CREATED:20180206T011108Z
LAST-MODIFIED:20180430T142204Z
UID:2701-1528682400-1528855199@www.theartdiggerlab.com
SUMMARY:Alex Kanevsky I
DESCRIPTION:Workshop de pintura\n“La Pintura Perceptiva”\n\n\n\n\nEste workshop forma parte de una bilogía que Alex Kanevsky va a impartir en Madrid el próximo mes de junio. Aunque los estudiantes pueden elegir asistir a uno de los workshops de forma independiente\, éstos están diseñados para complementarse mutuamente. Cada uno de los workshops apunta al mismo objetivo pictórico desde dos aproximaciones diferentes pero complementarias. \nSe trabajara sobre modelo. Los artistas participantes comenzarán a pintar tras la lección inicial en la que se establecerá el foco del Workshop. En la práctica pictórica los artistas intentarán poner en práctica los principios enunciados. Alex Kanevsky ira conversando individualmente con cada artista sobre su progreso.\nEn el workshop «La pintura perceptiva» se intentara responder a muchas preguntas: ¿Cómo pintar lo que ves? ¿Qué es lo que ves? ¿Cuánto cambias la realidad cuando la reduces de 3 a 2 dimensiones? ¿Es posible hacerlo? ¿Cómo lo mantenemos vivo? ¿Cuánto de lo que ves quieres en tu pintura? ¿Qué aspectos de la realidad? Hay bordes en la pintura\, está la superficie del lienzo o de la tabla\, los colores que fluyen de de los tubos en forma de pasta\, No se parecen a nada que yo vea en realidad: ¿Cómo podemos trascender estas limitaciones de los medios? ¿Son limitaciones? Color y música \n\n\n\n\nDescubre mas sobre Alex Kanevsky\n \n  \nDescarga el programa en Español en el siguiente enlace: \n\n	Programa Alex Kanevsky I\n\nDownload the English program in the following link: \n\n	Alex Kanevsky I Program
URL:https://www.theartdiggerlab.com/en/evento/alex-kanevsky/
LOCATION:Facultad de Bellas Artes UCM\, c/ Pintor el Greco\, 2\, Madrid\, Madrid\, 28028\, España
CATEGORIES:Alex Kanevsky,Bilogía
ATTACH;FMTTYPE=image/jpeg:https://www.theartdiggerlab.com/wp-content/uploads/2018/02/alexkanevskylgi.jpg
END:VEVENT
END:VCALENDAR