BEGIN:VCALENDAR
VERSION:2.0
PRODID:-//theartdiggerlab - ECPv6.15.1.1//NONSGML v1.0//EN
CALSCALE:GREGORIAN
METHOD:PUBLISH
X-ORIGINAL-URL:https://www.theartdiggerlab.com/en
X-WR-CALDESC:Events for theartdiggerlab
REFRESH-INTERVAL;VALUE=DURATION:PT1H
X-Robots-Tag:noindex
X-PUBLISHED-TTL:PT1H
BEGIN:VTIMEZONE
TZID:Europe/Madrid
BEGIN:DAYLIGHT
TZOFFSETFROM:+0100
TZOFFSETTO:+0200
TZNAME:CEST
DTSTART:20170326T010000
END:DAYLIGHT
BEGIN:STANDARD
TZOFFSETFROM:+0200
TZOFFSETTO:+0100
TZNAME:CET
DTSTART:20171029T010000
END:STANDARD
END:VTIMEZONE
BEGIN:VEVENT
DTSTART;VALUE=DATE:20171209
DTEND;VALUE=DATE:20171212
DTSTAMP:20260423T234251
CREATED:20171108T183722Z
LAST-MODIFIED:20180311T210629Z
UID:2497-1512781200-1512953999@www.theartdiggerlab.com
SUMMARY:Carmen Mansilla
DESCRIPTION:Workshop de pintura al óleo\n“Entre la realidad y la abstracción”\nWorkshop de retrato al  natural que busca  reemplazar lo superficial por lo escondido. \nÉste taller intensivo  ayuda a construir una estructura lógica  y reflexiva que enseñe a  mirar de otra forma cómo sentir un retrato. No solo como descripción física de una persona sino yendo más allá al establecer relaciones entre el aspecto físico y  la personalidad del retratado tamizada por la intencionalidad y el lenguaje del que lo retrata. Establecer una conexión estilística que relacione los rasgos físicos con los psicológicos. \nDescubre mas sobre Carmen Mansilla
URL:https://www.theartdiggerlab.com/en/evento/carmen-mansilla/
LOCATION:Academia Azul de Cadmio\, c/ Lanuza\, 11\, Madrid\, Madrid\, 28028
CATEGORIES:Carmen Mansilla,Workshop de pintura
ATTACH;FMTTYPE=image/jpeg:https://www.theartdiggerlab.com/wp-content/uploads/2017/11/LAS-TRIBULACIONES-DE-CASIOPEAWEB.jpg
END:VEVENT
END:VCALENDAR