BEGIN:VCALENDAR
VERSION:2.0
PRODID:-//theartdiggerlab - ECPv6.15.1.1//NONSGML v1.0//EN
CALSCALE:GREGORIAN
METHOD:PUBLISH
X-WR-CALNAME:theartdiggerlab
X-ORIGINAL-URL:https://www.theartdiggerlab.com/en
X-WR-CALDESC:Events for theartdiggerlab
REFRESH-INTERVAL;VALUE=DURATION:PT1H
X-Robots-Tag:noindex
X-PUBLISHED-TTL:PT1H
BEGIN:VTIMEZONE
TZID:Europe/Madrid
BEGIN:DAYLIGHT
TZOFFSETFROM:+0100
TZOFFSETTO:+0200
TZNAME:CEST
DTSTART:20200329T010000
END:DAYLIGHT
BEGIN:STANDARD
TZOFFSETFROM:+0200
TZOFFSETTO:+0100
TZNAME:CET
DTSTART:20201025T010000
END:STANDARD
BEGIN:DAYLIGHT
TZOFFSETFROM:+0100
TZOFFSETTO:+0200
TZNAME:CEST
DTSTART:20210328T010000
END:DAYLIGHT
BEGIN:STANDARD
TZOFFSETFROM:+0200
TZOFFSETTO:+0100
TZNAME:CET
DTSTART:20211031T010000
END:STANDARD
END:VTIMEZONE
BEGIN:VEVENT
DTSTART;VALUE=DATE:20210702
DTEND;VALUE=DATE:20210719
DTSTAMP:20260423T214643
CREATED:20210524T092553Z
LAST-MODIFIED:20210524T092553Z
UID:6090-1625191200-1626573599@www.theartdiggerlab.com
SUMMARY:Denis Sarazhin 2 modules online course July 2021
DESCRIPTION:2 modules Online Course\nLimited places\n“The modern painting process\,\ncolor & composition”\n\n\n\n\n\n\n\nWe will work on a 2-3 figure or semi figure composition from draft sketch to the final work. We will look on the different ways to find interesting compositions. Some basics from theory of composition and color to how to build color harmony and good rhythm of composition masses on your canvases.  \nOf course I will show you step by step the stages of how I work on my painting technique. And we will talk about how I search and decide to work on the different themes in my compositions.  \nThe course will include videos\, photos and schemes about the main topics. \nFirst week Module I \nThe foundations \n\nComposition theory\nColor theory\nPainting\, drawing materials\n\nSecond week Module II \nThe practice: \n\nDrawing technique\nPainting technique\nStages of the work on composition\n\nExercises & Feedback \nIn both modules\, specific exercises will be proposed to grasp the essential concepts that will be developed during the live online sessions.  You will have 5 days after each module to work on your own studio and at the end you will upload your work to our website School visual Platform.  There\, you will interact and receive feedback from the teacher and other participants for you to learn also from your classmates work and exchange comments with them. \nDuring the online session Denis will also share  videos of his painting demos from photo reference. Plus some short videos of him working from life\, color exercises etc. \nCOURSE CONTENT \nThis experience will keep you engaged during 4 weeks\, learning and working guided interactively by the teacher. The course is aimed at any artists who wants to expand their vision about painting\, for a limited group of 100 places max and comprises: \n7 Live online Sessions: You will have  7 days of live online sessions\, 6 with lectures\, demos and Q&A and a final one for discussing the students exercises results\, general advice from the teacher and Q&A (See schedule in next page) \nEach live session will last 2 hours where the artist will develop the teaching program. \nExercises program: The teacher will propose specific exercises during the live online sessions sharing with you lectures\, examples or demos solving the questions that may arise. \nFeedback & Critique: From the deadline of receipt of your exercises the group will receive a general feedback and you a personal comment from the teacher. \nQ&A: You will be able to ask all your questions during the time reserved for them in each online session. We will try to answer all individual or grouped questions both during the live events and those that you can send us offline when you submit your exercises. \nSyllabus: You will receive a syllabus with process description\, material list\, etc. \nVisual platform community: You will be part of a platform community containing all the resources and the participants uploads for you to learn also from your classmates and from Teachers comments. \nLearn more about Denis Sarazhin\n \n  \nDownload the program in the following link: \n\n	Denis Sarazhin 2 modules online July 2021 program
URL:https://www.theartdiggerlab.com/en/evento/denis-sarazhin-online-0920-2/
LOCATION:ONLINE EVENT
CATEGORIES:Denis Sarazhin,Online course,Workshop de pintura
ATTACH;FMTTYPE=image/jpeg:https://www.theartdiggerlab.com/wp-content/uploads/2021/05/pantomime-22-120.jpg
END:VEVENT
BEGIN:VEVENT
DTSTART;VALUE=DATE:20200918
DTEND;VALUE=DATE:20201005
DTSTAMP:20260423T214643
CREATED:20200723T112211Z
LAST-MODIFIED:20200917T221345Z
UID:5129-1600394400-1601776799@www.theartdiggerlab.com
SUMMARY:Denis Sarazhin online course Sept 2020
DESCRIPTION:Online Course\nLimited places\n“A modern take on composition\,\ndrawing & color in portrait painting”\n\n\n\n\n\n\n\nOBJECTIVES AND CONTENT \nThe main focus of this course will be portrait painting\, but built into it we will go trough all elements of contemporary realism painting and a modern perspective on portrait painting.  \nWe will underline the importance of visual language and formal composition as a base for getting artistic results. \nWe will interconnect drawing and painting; thinking about painting through drawing and thinking about drawing through painting.  \nDenis will cover another essential topics like: \n\nColor and value and their primary importance in painting\nDifferent techniques and artistic approaches\nColor theory made easy.\nAcademic education or self employment in art.\nAnatomy for artists and for portrait and figurative artists especially.\n\nIn this course\, different exercises will be proposed: \n\nExercises for improving your feel of color\nExercises in drawing to feel 3d shape and transfer it to 2d\nTips\, tricks and tools to find interesting composition for your paintings.\n\nDuring the online session Denis will also share about three hours video of his portrait painting demo from photo reference. Plus some short videos of him working from life\, color exercises etc. \nCOURSE CONTENT \nThe course will keep you engaged during 2 weeks\, learning and working guided interactively by the teacher.  The course is aimed at any artists who wants to expand their vision about painting. \nYou will get: \n4 Live online Sessions: You will have  4 days of live online sessions\, 3 with lectures\, demos and Q&A and a final one for discussing the students exercises results\, general advice from the teacher and Q&A (See schedule in program) \nEach live session will last 2 hours where the artist will develop the teaching program. The sessions will be recorded and available for one entire day after the day of the live session in case is difficult for you to attend due to time zone or other reasons. \nExercises program: The teacher will propose specific exercises during the live online sessions sharing with you lectures\, examples or demos solving the questions that may arise. \nFeedback & Critique: From the deadline of receipt of your exercises you will be receiving a general feedback and a personal comment to your work from the teacher. \nQ&A: You will be able to ask all your questions during the time reserved for them in each online session. We will try to answer all individual or grouped questions both during the live events and those that you can send us offline when you submit your exercises. \nSyllabus: You will receive a syllabus with process description\,\, material list\, etc. \nInteractive Visual platform: containing resources and all the participants works for you to learn also from your classmates. You will see different approaches and different painting styles for your inspiration. \nLearn more about Denis Sarazhin\n \n  \nDownload the program in the following link: \n\n	Denis Sarazhin online course Sept 2020
URL:https://www.theartdiggerlab.com/en/evento/denis-sarazhin-online-0920/
LOCATION:ONLINE EVENT
CATEGORIES:Denis Sarazhin,Online course,Workshop de pintura
ATTACH;FMTTYPE=image/jpeg:https://www.theartdiggerlab.com/wp-content/uploads/2019/11/blue-scarf-111.jpg
END:VEVENT
END:VCALENDAR