BEGIN:VCALENDAR
VERSION:2.0
PRODID:-//theartdiggerlab - ECPv6.15.1.1//NONSGML v1.0//EN
CALSCALE:GREGORIAN
METHOD:PUBLISH
X-WR-CALNAME:theartdiggerlab
X-ORIGINAL-URL:https://www.theartdiggerlab.com/en
X-WR-CALDESC:Events for theartdiggerlab
REFRESH-INTERVAL;VALUE=DURATION:PT1H
X-Robots-Tag:noindex
X-PUBLISHED-TTL:PT1H
BEGIN:VTIMEZONE
TZID:Europe/Madrid
BEGIN:DAYLIGHT
TZOFFSETFROM:+0100
TZOFFSETTO:+0200
TZNAME:CEST
DTSTART:20220327T010000
END:DAYLIGHT
BEGIN:STANDARD
TZOFFSETFROM:+0200
TZOFFSETTO:+0100
TZNAME:CET
DTSTART:20221030T010000
END:STANDARD
BEGIN:DAYLIGHT
TZOFFSETFROM:+0100
TZOFFSETTO:+0200
TZNAME:CEST
DTSTART:20230326T010000
END:DAYLIGHT
BEGIN:STANDARD
TZOFFSETFROM:+0200
TZOFFSETTO:+0100
TZNAME:CET
DTSTART:20231029T010000
END:STANDARD
END:VTIMEZONE
BEGIN:VEVENT
DTSTART;VALUE=DATE:20230707
DTEND;VALUE=DATE:20230731
DTSTAMP:20260423T211810
CREATED:20230307T123853Z
LAST-MODIFIED:20230307T123853Z
UID:7454-1688695200-1690682399@www.theartdiggerlab.com
SUMMARY:Dunford  ·  Fouvry ·  Praybe July 2023
DESCRIPTION:4 WEEKS ONLINE COURSE\nLimited places\n\nSeeing differently:\nThe abstract-reality connection\n\n\n\nJOIN AN EXTRAORDINARY TEACHING EXPERIENCE\n\n\n\n\nIn July 2023 three of the most outstanding contemporary artists come together to offer a new complete online course. During 4 weeks these extraordinary artists will share with the attendants their personal vision on the «abstract-reality connection» in painting. The course is aimed at any artist who wants to expand their wisdom about painting. Learning three points of view on the art of painting will help you to find your own path and personal voice. \nThe course is one month long during which you will be learning and working guided interactively by Mark\, Edwige and Edmond with the following program: \n\n\n\n\nEdmond Praybe: “THE POETIC STILL LIFE”\nEdwige Fouvry: “EXPRESSING INTUITION”\nMark Dunford: “MINDFUL REALITY”\nDunford · Fouvry · Praybe: Final panel\nCOURSE CONTENT:\nThe course is aimed for a limited group of 150 places max and comprises: \n10 Online Sessions: You will have 10 days of 2 hours live online sessions\, 3 with each artist and a final one with a panel discussion between the three of them (See schedule in program) \nExercises program: Each Artist will propose specific exercises during the live online sessions sharing with you lectures\, examples or demos and solving the questions that may arise. \nFeedback & Critique: From the deadline of receipt of each of your exercises  you will receive a personal short feedback to your work from every teacher \nQ&A: You will be able to ask all your questions during the time reserved for them in each online session. We will try to answer all individual or grouped questions both during the live events and those that you can send us offline when you submit your exercises. \nSyllabus: You will receive from each teacher a summary with process description\, material list\, etc.  \nVisual platform community: You will be part of a platform community containing all the resources and the participants work uploads for you to learn also from your classmates and from Teachers comments. \nLearn more about:\nMark Dunford\nEdwige Fouvry\nEdmond Praybe\n \n\nDownload the program in the following link:\nDunford/Fouvry/Praybe online course program 2023
URL:https://www.theartdiggerlab.com/en/evento/dunford-fouvry-praybe-july-2023/
LOCATION:ONLINE EVENT
CATEGORIES:Edmond Praybe,Edwige Fouvry,Mark Dunford,Online course
ATTACH;FMTTYPE=image/png:https://www.theartdiggerlab.com/wp-content/uploads/2023/03/Screenshot-2023-03-07-at-13.22.04.png
END:VEVENT
BEGIN:VEVENT
DTSTART;VALUE=DATE:20220708
DTEND;VALUE=DATE:20220725
DTSTAMP:20260423T211810
CREATED:20220420T184149Z
LAST-MODIFIED:20220420T184149Z
UID:7016-1657245600-1658627999@www.theartdiggerlab.com
SUMMARY:Joe Morzuch  ·  Edmond Praybe
DESCRIPTION:3 WEEKS ONLINE COURSE\nLimited places\n\n«PAINTING EXPLORED«\n\n\nJOIN AN EXTRAORDINARY TEACHING EXPERIENCE\nIn July 2022 two great contemporary artists\,  Joe Morzuch and Edmond Praybe come together to offer a complete online course. During 3 weeks Joe and Edmond will share with the attendants their personal vision on the exploration of the painting process. The course is aimed at any artist who wants to expand their wisdom about painting. Learning from different points of view will help you to find your own path and personal voice. \nThe course is 3 weeks long during which you will be learning and working guided interactively by Joe and Edmond.  \nThe course is aimed for a limited group of 150 places max and comprises: \n7 Online Sessions: You will have 7 days of live online sessions\, 3 with each artist and a final one with a panel discussion with them (See schedule in next page) \nEach live session will last 2 hours where each artist will develop the specific teaching program. \nRecordings of the sessions will be available during several days to catch up and review. \nExercises program: Each Artist will propose specific exercises during the live online sessions sharing with you lectures\, examples or demos and solving the questions that may arise. \nFeedback & Critique: From the deadline of receipt of each of your exercises  you will receive a personal short feedback to your work from every teacher. \nQ&A: You will be able to ask all your questions during the time reserved for them in each online session. We will try to answer all individual or grouped questions both during the live events and those that you can send us offline when you submit your exercises. \nSyllabus: You will receive from each teacher a syllabus with exercise description\, material list\, etc.  \nVisual platform community: You will be part of a platform visual community containing all the resources and the participants uploads for you to learn also from your classmates and from Teachers comments. \nLearn more about:\nJoe Morzuch\nEdmond Praybe\n \nDownload the program in the following link:\nMorzuch/Praybe\n online course program 2022
URL:https://www.theartdiggerlab.com/en/evento/morzuch-praybe-2022/
LOCATION:ONLINE EVENT
CATEGORIES:Edmond Praybe,Joe Morzuch,Online course
ATTACH;FMTTYPE=image/png:https://www.theartdiggerlab.com/wp-content/uploads/2022/04/Screenshot-2022-04-20-at-20.38.48.png
END:VEVENT
END:VCALENDAR