BEGIN:VCALENDAR
VERSION:2.0
PRODID:-//theartdiggerlab - ECPv6.15.1.1//NONSGML v1.0//EN
CALSCALE:GREGORIAN
METHOD:PUBLISH
X-ORIGINAL-URL:https://www.theartdiggerlab.com/en
X-WR-CALDESC:Events for theartdiggerlab
REFRESH-INTERVAL;VALUE=DURATION:PT1H
X-Robots-Tag:noindex
X-PUBLISHED-TTL:PT1H
BEGIN:VTIMEZONE
TZID:Europe/Madrid
BEGIN:DAYLIGHT
TZOFFSETFROM:+0100
TZOFFSETTO:+0200
TZNAME:CEST
DTSTART:20190331T010000
END:DAYLIGHT
BEGIN:STANDARD
TZOFFSETFROM:+0200
TZOFFSETTO:+0100
TZNAME:CET
DTSTART:20191027T010000
END:STANDARD
BEGIN:DAYLIGHT
TZOFFSETFROM:+0100
TZOFFSETTO:+0200
TZNAME:CEST
DTSTART:20200329T010000
END:DAYLIGHT
BEGIN:STANDARD
TZOFFSETFROM:+0200
TZOFFSETTO:+0100
TZNAME:CET
DTSTART:20201025T010000
END:STANDARD
END:VTIMEZONE
BEGIN:VEVENT
DTSTART;VALUE=DATE:20200313
DTEND;VALUE=DATE:20200317
DTSTAMP:20260423T225749
CREATED:20191106T125239Z
LAST-MODIFIED:20191106T133322Z
UID:4425-1584061200-1584320399@www.theartdiggerlab.com
SUMMARY:Felipe Alonso II
DESCRIPTION:Workshop de pintura\n“Ni tan figurativo\, ni tan abstracto”\n  \n\n\n\n\nCONTENIDO \nEn la pintura figurativa actual conviven de manera frecuente dos mundos: figuración y abstracción\, aportando cada uno de ellos sus recursos plásticos propios\, conceptuales y estéticos.  \nLa oportunidad de este taller se basa en analizar conocimientos y recursos para ponerlos en práctica en nuestras pinturas consiguiendo que esa fusión entre dos mundos tan aparentemente disonantes funcionen en armonía y abran nuevos caminos por los que desarrollar nuestra pintura.  \nOBJETIVO\nAnalizar y aplicar elementos expresivos plásticos no vinculados a la figuración\, acercándolos al diálogo con el cuerpo humano\, buscando entrar en un mundo de investigación plástica y no sólo de representación del modelo\, bien sea fotográfico o real y que el lenguaje vaya más allá de lo real y entre en otra dimensión de la plástica.  \nOBJETIVOS ESPECÍFICOS:  \n\nAnalizar y orientar los recursos que nos ofrece la realidad\, las masas\, las texturas\, la luz y el color propiciando\, en primer lugar\, un ejercicio de análisis compositivo y cromático. En este estudio se trata de simplificar nuestro referente. \nPropiciar un espacio de acercamiento y reflexión sobre el proceso pictórico y los elementos plásticos necesarios para una representación armónica entre lo figurativo y lo abstracto. El desnudo como excusa. \nIndagar en las ventajas e inconvenientes de los nuevos soportes para óleo (papel de fibra de poliéster)\, médiums\, pinturas\, barnices y pinceles para cada una de las fases del cuadro y de la investigación.\n\nMETODOLOGÍA.  \nSe realizará una visita al Museo Thyssen Bornemisza para analizar la concepción y la parte metodológica de las pinturas que han conseguido ese dialogo entre figuración y abstracción.  \nRealizaremos un cuadro con pintura al óleo. El soporte a trabajar será sobre papeles de poliéster de diferentes tamaños (50 x 50 cm\, 40 x 40 cm\, 45 x 45 cm).  \nDicho trabajo partirá de una imagen digital suministrada por el profesor\, en la que la temática será el desnudo\, indagaremos en los aspectos más expresivos de la plástica sin despreciar el aspecto figurativo.  \nDurante las sesiones del taller se recorrerán las diversas etapas de construcción de una pintura y mediante ejemplos prácticos se analizará: \n\nLa trascendencia y repercusión que tienen los nuevos soportes pictóricos. \nPosibles procesos mentales y formales para el desarrollo de estas obras. \nAspectos técnicos\, procedimientos y materiales en la pintura; soportes\, pigmentos\, médiums y barnices. \nLa importancia del soporte de programas de edición de imagen digital\, para la resolución de dificultades en la concepción de la imagen. \nLos procedimientos y técnicas más adecuados en consonancia con la obra. \n\nEl profesor se centrará en cada participante de forma individual para conseguir mayores avances técnicos\, teniendo en cuenta las características personales de cada artista.  \n\n\n\n\nDescubre mas sobre Felipe Alonso\n \n  \nDescarga el programa en español en el siguiente enlace: \n\n	Felipe Alonso II marzo 2020\n\nDownload the english program in the following link: \n\n	Felipe Alonso II March 2020
URL:https://www.theartdiggerlab.com/en/evento/felipe-alonso-2/
LOCATION:Atelier Villeneuve\, c/ Salaberry\, 89\, Madrid\, Madrid\, 28019\, España
CATEGORIES:Felipe Alonso,Workshop de pintura
ATTACH;FMTTYPE=image/jpeg:https://www.theartdiggerlab.com/wp-content/uploads/2019/11/taller2a.jpg
END:VEVENT
BEGIN:VEVENT
DTSTART;VALUE=DATE:20200311
DTEND;VALUE=DATE:20200315
DTSTAMP:20260423T225749
CREATED:20191106T124548Z
LAST-MODIFIED:20191106T133430Z
UID:4422-1583888400-1584147599@www.theartdiggerlab.com
SUMMARY:Felipe Alonso I
DESCRIPTION:Workshop de pintura\n“Metodología e intuición en el retrato contemporáneo”\n  \n\n\n\n\nOBJETIVOS Y CONTENIDO \nEl objetivo fundamental de este taller es centrarse en una de las cuestiones más importantes y más arriesgadas del artista a la hora de ejecutar y resolver una pintura figurativa.  \nEl reto es discernir en que momentos es necesario ceñirse a una metodología y en que fases de la pintura hay que dejarse llevar por la intuición\, el azar o la insensatez\, en aras de conseguir llevar la pintura a un estado superior y no sólo el de la mera representación. Para ello es fundamental identificar cuales son las fases de construcción de\, por ejemplo\, un retrato; en que circunstancias o situaciones se pueden utilizar ciertos procedimientos específicos para una resolución formal y matérica de lo representado. También identificar en qué escenarios es preciso dejarse llevar por nuestra intuición\, procurando una visión pictórica más personal\, en busca de lo que deberíamos llamar la magia en la pintura.  \nOBJETIVOS ESPECÍFICOS\nEliminar las barreras creativas que nos imponemos ya desde la concepción mental del cuadro\, ciñéndonos a esa idea preestablecida que nos impide desarrollar y abordar el proceso creativo mas libre durante la ejecución de la obra pictórica.  \nIndagar en las ventajas e inconvenientes y las múltiples maneras y herramientas disponibles a la hora de aplicar la pintura (pintura directa e indirecta)\, pasando por la armonía cromática\, los diferentes soportes\, diferentes médiums\, pinturas\, barnices y pinceles\, para cada una de las fases del cuadro.  \nMETODOLOGÍA.  \nSe realizará una visita al Museo del Prado el día 13 de marzo para analizar la concepción y la parte metodológica de las pinturas que a lo largo de la historia han conseguido traspasar esa barrera de la mera representación.  \nLa pintura la realizaremos mediante un procedimiento de capas\, aprovechando las cualidades de la infra-pintura para la obtención de las texturas y recursos necesarios para una buena superficie que represente tanto la parte formal como matérica del retrato. Para posteriormente aplicar la supra-pintura atendiendo a aspectos fundamentales como el ajuste tonal y cromático y desarrollar esas acciones de improvisación y dejar paso a nuestra intuición para poder concluir un retrato.  \nEl soporte para trabajar será una tela de 50cm x 50cm. Dicho ejercicio partirá de una imagen digital suministrada por el profesor cuya temática será el retrato.  \nDurante las sesiones del taller se recorrerán las diversas etapas de construcción de un retrato y mediante ejemplos prácticos se analizará:\n• La trascendencia y repercusión que tiene la adecuada preparación del soporte pictórico.\n• La importancia del desarrollo previo de la imagen a pintar a modo de bocetos o estudios\, mediante programas de edición de imagen digital.\n• Las posibilidades que nos ofrece la infra-pintura o primeras capas de materia para la obtención idónea de la representación; en este caso de la piel y de la carne.\n• Las cualidades de la aplicación del color en la carne (transparencia y opacidad).  \nEl profesor se centrará en cada participante de forma individual para conseguir mayores avances técnicos\, teniendo en cuenta las particularidades específicas de cada artista. \n\n\n\n\nDescubre mas sobre Felipe Alonso\n \n  \nDescarga el programa en español en el siguiente enlace: \n\n	Felipe Alonso I marzo 2020\n\nDownload the english program in the following link: \n\n	Felipe Alonso I march 2020
URL:https://www.theartdiggerlab.com/en/evento/felipe-alonso-1/
LOCATION:Atelier Villeneuve\, c/ Salaberry\, 89\, Madrid\, Madrid\, 28019\, España
CATEGORIES:Felipe Alonso,Workshop de pintura
ATTACH;FMTTYPE=image/jpeg:https://www.theartdiggerlab.com/wp-content/uploads/2018/10/untititled-oil-FA.jpg
END:VEVENT
BEGIN:VEVENT
DTSTART;VALUE=DATE:20190314
DTEND;VALUE=DATE:20190317
DTSTAMP:20260423T225749
CREATED:20181003T045832Z
LAST-MODIFIED:20190306T225552Z
UID:3554-1552525200-1552697999@www.theartdiggerlab.com
SUMMARY:Felipe Alonso II
DESCRIPTION:Workshop de pintura\nSolo 12 plazas\n“Desfiguración”\nArmonía entre lo real y lo imaginario\nEste workshop forma parte de una bilogía que Felipe Alonso va a impartir en Madrid. Aunque los estudiantes pueden elegir asistir a uno de los workshops de forma independiente\, éstos están diseñados para complementarse mutuamente. \nCONTENIDO y OBJETIVOS: \n\nPropiciar un espacio de acercamiento y reflexión sobre el proceso pictórico y los elementos plásticos necesarios para una representación armónica entre lo real e imaginario. El retrato como excusa. \nPromover el desarrollo de elementos expresivos plásticos no vinculados necesariamente a la figuración\, en diálogo con un retrato\, en aras de la investigación. pictórica. \nIndagar en las ventajas e inconvenientes de los diferentes soportes\, médiums\, pinturas\, barnices y pinceles para cada una de las fases del cuadro y de la investigación.\n\nMETODOLOGÍA. \nEl participante trabajará con pintura acrílica y óleo sobre un soporte adecuado. Dicho trabajo partirá de una imagen digital suministrada por el profesor\, en la que indagaremos en los aspectos más expresivos de la plástica sin despreciar el parecido al retratado.  \nDurante las sesiones del taller se recorrerán las diversas etapas de construcción de una pintura y mediante ejemplos prácticos se analizará:\n-La trascendencia y repercusión que tiene la adecuada preparación del soporte pictórico.\n-Posibles procesos mentales y formales para el desarrollo de estas obras.\n-Aspectos técnicos\, procedimientos y materiales en la pintura; soportes\, pigmentos\, médiums y barnices.\n-La importancia del soporte de programas de edición de imagen digital\, para la resolución de dificultades en la concepción de la imagen.\n-Los procedimientos y técnicas más adecuados en consonancia con la obra.\n-Análisis de pintores que trabajan la desfiguración. \nEl profesor se centrará en cada participante de forma individualizada para conseguir mayores avances técnicos\, teniendo en cuenta las cualidades de cada persona.  \nDescubre mas sobre Felipe Alonso\n \nDescarga el programa en Español en el siguiente link: \nFelipe Alonso II\nDownload the english program in the following link: \nFelipe Alonso II english
URL:https://www.theartdiggerlab.com/en/evento/felipe-alonso-ii/
LOCATION:Atelier Villeneuve\, c/ Salaberry\, 89\, Madrid\, Madrid\, 28019\, España
CATEGORIES:Felipe Alonso,Workshop de pintura
ATTACH;FMTTYPE=image/jpeg:https://www.theartdiggerlab.com/wp-content/uploads/2018/10/43828406_584450725291261_4319340191727747072_n.jpg
END:VEVENT
BEGIN:VEVENT
DTSTART;VALUE=DATE:20190311
DTEND;VALUE=DATE:20190314
DTSTAMP:20260423T225749
CREATED:20171109T221215Z
LAST-MODIFIED:20190206T102514Z
UID:2574-1552266000-1552438799@www.theartdiggerlab.com
SUMMARY:Felipe Alonso I
DESCRIPTION:Workshop de pintura\nSolo 12 plazas\nSi las plazas están completas puedes registrarte en la LISTA DE ESPERA\nescribiendo a admin@theartdiggerlab.com indicando el workshop en el que estas interesado\ny contactaremos contigo por orden de inscripción si queda alguna plaza libre\n“Piel y carne como pintura física”\nLa importancia de la infra-pintura\nEste workshop forma parte de una bilogía que Felipe Alonso va a impartir en Madrid. Aunque los estudiantes pueden elegir asistir a uno de los workshops de forma independiente\, éstos están diseñados para complementarse mutuamente. \nCONTENIDO y OBJETIVOS: \n\nPropiciar un espacio de acercamiento entre la materia pictórica y la piel y la carne como el relato a narrar.\nApropiarse de los recursos necesarios para representar la carne en la pintura con el mayor número de elementos plásticos posibles\, centrándose especialmente en las posibilidades de la materia y sus texturas desde la infra-pintura.\nIndagar en las ventajas e inconvenientes de los diferentes soportes\, médiums\, pinturas\, barnices y pinceles para cada una de las fases del cuadro. \n\nMETODOLOGÍA. \nEl participante trabajará con con pintura acrílica y óleo. sobre un soporte adecuado\, se usará un procedimiento por capas\, aprovechando las cualidades de la infra-pintura y sus recursos para la obtención de las texturas y superficies que representen la carne y la piel humana.\nDurante las sesiones del taller se recorrerán las diversas etapas de construcción de una pintura y mediante ejemplos prácticos se analizará: \n\nLa trascendencia y repercusión que tiene la adecuada preparación del soporte pictórico.\nLa importancia del desarrollo previo de la imagen a pintar a modo de bocetos o estudios\, mediante programas de edición de imagen digital. \nLas posibilidades que nos ofrece la infra-pintura o primeras capas de materia para la obtención idónea de la representación; en este caso de la piel y de la carne. \nLas cualidades de la aplicación del color en la carne (transparencia y opacidad). \n\nEl profesor se centrará en cada participante de forma individualizada para conseguir mayores avances técnicos\, teniendo en cuenta las cualidades de cada persona \n\nDescubre mas sobre Felipe Alonso\n \nDescarga el programa en Español en el siguiente link: \nFelipe Alonso I\nDownload the english program in the following link: \nFelipe Alonso I english
URL:https://www.theartdiggerlab.com/en/evento/felipe-alonso-i/
LOCATION:Atelier Villeneuve\, c/ Salaberry\, 89\, Madrid\, Madrid\, 28019\, España
CATEGORIES:Felipe Alonso,Workshop de pintura
ATTACH;FMTTYPE=image/jpeg:https://www.theartdiggerlab.com/wp-content/uploads/2017/11/F-Alonso-foto-portada-programa.jpg
END:VEVENT
END:VCALENDAR