BEGIN:VCALENDAR
VERSION:2.0
PRODID:-//theartdiggerlab - ECPv6.15.1.1//NONSGML v1.0//EN
CALSCALE:GREGORIAN
METHOD:PUBLISH
X-ORIGINAL-URL:https://www.theartdiggerlab.com/en
X-WR-CALDESC:Events for theartdiggerlab
REFRESH-INTERVAL;VALUE=DURATION:PT1H
X-Robots-Tag:noindex
X-PUBLISHED-TTL:PT1H
BEGIN:VTIMEZONE
TZID:Europe/Madrid
BEGIN:DAYLIGHT
TZOFFSETFROM:+0100
TZOFFSETTO:+0200
TZNAME:CEST
DTSTART:20170326T010000
END:DAYLIGHT
BEGIN:STANDARD
TZOFFSETFROM:+0200
TZOFFSETTO:+0100
TZNAME:CET
DTSTART:20171029T010000
END:STANDARD
END:VTIMEZONE
BEGIN:VEVENT
DTSTART;VALUE=DATE:20171118
DTEND;VALUE=DATE:20171121
DTSTAMP:20260424T001358
CREATED:20171025T155844Z
LAST-MODIFIED:20180311T211315Z
UID:2466-1510966800-1511139599@www.theartdiggerlab.com
SUMMARY:Hermanos Pardo
DESCRIPTION:“Procesos y estrategias en el Dibujo contemporáneo”\nEn este curso-taller\, cada alumno se enfrentará con la ayuda del maestro al modelo vivo del natural estableciéndose un “dialogo” entre el maestro y el alumno\, a través del modelo\, que acompañarán a los trabajos prácticos. El contacto será directo y personalizado\, donde el maestro ayudará a la formación del alumno\, en un proceso como es el de “educar la mirada” y concebir esa realidad\, suponiendo una experiencia formativa y vital para el alumno. \nDescubre mas sobre los Hermanos Pardo
URL:https://www.theartdiggerlab.com/en/evento/hermanos-pardo/
LOCATION:Academia Azul de Cadmio\, c/ Lanuza\, 11\, Madrid\, Madrid\, 28028
CATEGORIES:Hermanos Pardo,Workshop de dibujo
ATTACH;FMTTYPE=image/jpeg:https://www.theartdiggerlab.com/wp-content/uploads/2017/10/3.DIBUJO-WEB.jpg
END:VEVENT
END:VCALENDAR