BEGIN:VCALENDAR
VERSION:2.0
PRODID:-//theartdiggerlab - ECPv6.15.1.1//NONSGML v1.0//EN
CALSCALE:GREGORIAN
METHOD:PUBLISH
X-WR-CALNAME:theartdiggerlab
X-ORIGINAL-URL:https://www.theartdiggerlab.com/en
X-WR-CALDESC:Events for theartdiggerlab
REFRESH-INTERVAL;VALUE=DURATION:PT1H
X-Robots-Tag:noindex
X-PUBLISHED-TTL:PT1H
BEGIN:VTIMEZONE
TZID:Europe/Madrid
BEGIN:DAYLIGHT
TZOFFSETFROM:+0100
TZOFFSETTO:+0200
TZNAME:CEST
DTSTART:20190331T010000
END:DAYLIGHT
BEGIN:STANDARD
TZOFFSETFROM:+0200
TZOFFSETTO:+0100
TZNAME:CET
DTSTART:20191027T010000
END:STANDARD
BEGIN:DAYLIGHT
TZOFFSETFROM:+0100
TZOFFSETTO:+0200
TZNAME:CEST
DTSTART:20200329T010000
END:DAYLIGHT
BEGIN:STANDARD
TZOFFSETFROM:+0200
TZOFFSETTO:+0100
TZNAME:CET
DTSTART:20201025T010000
END:STANDARD
BEGIN:DAYLIGHT
TZOFFSETFROM:+0100
TZOFFSETTO:+0200
TZNAME:CEST
DTSTART:20210328T010000
END:DAYLIGHT
BEGIN:STANDARD
TZOFFSETFROM:+0200
TZOFFSETTO:+0100
TZNAME:CET
DTSTART:20211031T010000
END:STANDARD
BEGIN:DAYLIGHT
TZOFFSETFROM:+0100
TZOFFSETTO:+0200
TZNAME:CEST
DTSTART:20220327T010000
END:DAYLIGHT
BEGIN:STANDARD
TZOFFSETFROM:+0200
TZOFFSETTO:+0100
TZNAME:CET
DTSTART:20221030T010000
END:STANDARD
BEGIN:DAYLIGHT
TZOFFSETFROM:+0100
TZOFFSETTO:+0200
TZNAME:CEST
DTSTART:20230326T010000
END:DAYLIGHT
BEGIN:STANDARD
TZOFFSETFROM:+0200
TZOFFSETTO:+0100
TZNAME:CET
DTSTART:20231029T010000
END:STANDARD
BEGIN:DAYLIGHT
TZOFFSETFROM:+0100
TZOFFSETTO:+0200
TZNAME:CEST
DTSTART:20240331T010000
END:DAYLIGHT
BEGIN:STANDARD
TZOFFSETFROM:+0200
TZOFFSETTO:+0100
TZNAME:CET
DTSTART:20241027T010000
END:STANDARD
END:VTIMEZONE
BEGIN:VEVENT
DTSTART;VALUE=DATE:20241004
DTEND;VALUE=DATE:20241028
DTSTAMP:20260423T202228
CREATED:20240804T095205Z
LAST-MODIFIED:20240831T160207Z
UID:7741-1728007200-1729994399@www.theartdiggerlab.com
SUMMARY:Campos  ·  Lee ·  Rilling Oct 2024
DESCRIPTION:4 WEEKS ONLINE COURSE\nLimited places\n\n«Thinking Big Working Small»\n\n\n\nJOIN AN EXTRAORDINARY TEACHING EXPERIENCE\n\n\n\n\nIn October 2024 three outstanding contemporary artists come together to offer an extraordinary online course. During 4 weeks Martin Campos\, Patrick Lee and Claudia Rilling will share with the attendants their personal vision on painting approaches in small formats as a powerful tool to hone your artistic skills. The course is aimed at any artist who wants to expand their wisdom about painting. Learning three points of view on the art of painting will help you to find your own path and personal voice. \nThe course is one month long during which you will be learning and working guided interactively by Martin\, Patrick and Claudia with the following program: \n\n\n\n\nMartin Campos: “CAPTURING THE IMMEDIACY OF FORM”\nPatrick Lee: “THE LANGUAGE OF ART: PATTERN\, SHAPE AND COLOR”\nClaudia Rilling: “UNLOCKING POWERFUL COMPOSITION: TRANSFORMING YOUR PAINTING THROUGH SMALL-SCALE STUDIES”\nCampos · Lee · Rilling: Final panel\nCOURSE CONTENT:\nThe course is aimed for a limited group of 150 places max and comprises: \n10 Online Sessions: You will have 10 days of 2 hours live online sessions\, 3 with each artist and a final one with a panel discussion between the three of them (See schedule in program) \nRecorded Sessions: All sessions will be recorded and available for you to watch during the whole course in case you can not attend any live session. \nExercises program: Each Artist will propose specific exercises during the live online sessions sharing with you lectures\, examples or demos and solving the questions that may arise. \nFeedback & Critique: From the deadline of receipt of each of your exercises  you will receive a personal short feedback to your work from every teacher \nQ&A: You will be able to ask all your questions during the time reserved for them in each online session. We will try to answer all individual or grouped questions both during the live events and those that you can send us offline when you submit your exercises. \nSyllabus: You will receive from each teacher a syllabus with process description\, material list\, etc.  \nVisual platform community: You will be part of a platform community containing all the resources and the participants uploads for you to learn also from your classmates and from Teachers comments. \nLearn more about:\nMartin Campos\nPatrick Lee\nClaudia Rilling\n \n\nDownload the program in the following link:\nCampos/Lee/Rilling online course program 2024\n 
URL:https://www.theartdiggerlab.com/en/evento/campos-%c2%b7-lee-%c2%b7-rilling-oct-2024/
LOCATION:ONLINE EVENT
CATEGORIES:Claudia Rilling,Martin Campos,Online course,Patrick Lee
ATTACH;FMTTYPE=image/png:https://www.theartdiggerlab.com/wp-content/uploads/2024/08/Screenshot-2024-08-04-at-11.36.09.png
END:VEVENT
BEGIN:VEVENT
DTSTART;VALUE=DATE:20211022
DTEND;VALUE=DATE:20211108
DTSTAMP:20260423T202228
CREATED:20210706T080103Z
LAST-MODIFIED:20210706T080103Z
UID:6254-1634868000-1636246799@www.theartdiggerlab.com
SUMMARY:Martin Campos 2 modules online course Oct 2021
DESCRIPTION:2 modules Online Course\nLimited places\n“Figure Drawing: the expressive line”\nDownload the program in the following link:\n\n	Martin Campos 2 modules online Oct 2021\n\n\n\n\n\n\n\n\n\nIn this 3 weeks online course\, Philadelphia based artist Arcenio Martin Campos will challenge the artists to push artistic boundaries with how one sees the human figure. \n\n\n\n\nWorking directly from observation or photo reference of the model and at a quick pace\, students will understand how to use memory and speed to the best advantage in their work. Single figure studies and figure space compositions will be explored depending on the individual goals of each student. \nMODULE I \nIn the first module\, students will be advised of important anatomical structures that are key elements to what the instructor feels are critical to composing.\nAnother element of this module will be the introduction to the “wipe-out-regeneration” method\, a main procedure to this specific method of building form and movement. \nMODULE II \nThe second module will be the characteristics of finding focal point and locking into a solid composition whether it will be the form or a whole environment independent of the figure.\nAlso what will be discussed is time management and time compression to get the most out of the drawing experience. \nLEARNING OUTCOMES \n\nA rounded sense of the existence of a form made while on a substrate.The mystery of how to solve proportional problems will be clear.\nA strong sense of the gesture which Martin considers the “lifeblood”and the “engine” behind the single figure entity. In the gestural mode\, particular attention will be presented on the skeletal system and the strong role it plays in keying in on and creating the abbreviated gesture.\nHow one can do a strong rooted figure in 10 or less marks is always the challenge. Opening up and “emptying out your form” will be the task — and how to use the power of minimalism to spark memory in future work from a particular model.\nHow the form relates to surface tension and space. Certain aspects of the pose which puncture space and cause tension with its surroundings will be explored.\n\n\n\n\n\n\n\n\n\nCOURSE CONTENT \nThis experience will keep you engaged during 3 weeks\, learning and working guided interactively by the teacher. The course is aimed at any artists who wants to expand their vision about painting\, for a limited group of 100 places max and comprises: \n7 Live online Sessions: You will have  7 days of live online sessions\, 6 with lectures\, demos and Q&A and a final one for discussing the students exercises results\, general advice from the teacher and Q&A (See schedule in program) \nEach live session will last 2 hours where the artist will develop the teaching program. \nExercises program: The teacher will propose specific exercises during the live online sessions sharing with you lectures\, examples or demos solving the questions that may arise. \nFeedback & Critique: From the deadline of receipt of your exercises the group will receive a general feedback and you a personal comment from the teacher. \nQ&A: You will be able to ask all your questions during the time reserved for them in each online session. We will try to answer all individual or grouped questions both during the live events and those that you can send us offline when you submit your exercises. \nResources: You will have access to resources list with process description\, material list\, etc. \nVisual platform community: You will be part of a platform community containing all the resources and the participants uploads for you to learn also from your classmates and from Teachers comments. \nLearn more about Martin Campos\n \n 
URL:https://www.theartdiggerlab.com/en/evento/martin-campos-online-oct-2021/
LOCATION:ONLINE EVENT
CATEGORIES:Martin Campos,Online course,Workshop de pintura
ATTACH;FMTTYPE=image/jpeg:https://www.theartdiggerlab.com/wp-content/uploads/2021/07/Screenshot_20210211-114949_Instagram.jpg
END:VEVENT
BEGIN:VEVENT
DTSTART;VALUE=DATE:20190919
DTEND;VALUE=DATE:20190922
DTSTAMP:20260423T202228
CREATED:20190221T121200Z
LAST-MODIFIED:20190731T085411Z
UID:3832-1568858400-1569031199@www.theartdiggerlab.com
SUMMARY:Martin Campos II
DESCRIPTION:Workshop de Pintura\nSolo 12 plazas\n“Pintando la forma”\n\nEste workshop forma parte de una bilogía que Martin Campos va a impartir en Madrid. Aunque los estudiantes pueden elegir asistir a uno de los workshops de forma independiente\, éstos están diseñados para complementarse mutuamente. \nCONTENIDO y OBJETIVOS: \n\n\n\n\nEn este taller\, el artista\, basado en Filadelfia\, Arcenio Martín Campos retará al estudiante a empujar las fronteras artísticas del modo en que uno ve la figura humana.\nTrabajando directamente desde la observación o la referencia fotográfica del modelo y a un ritmo rápido\, los estudiantes entenderán cómo usar la memoria y la velocidad para obtener la mejor ventaja en su trabajo. Los estudios de figuras individuales y las composiciones de espacios con figuras se explorarán en función de los objetivos individuales de cada estudiante. \nEl núcleo del trabajo de Martín Campos gira alrededor de la figura\, observada directamente\, y como punto de partida para las distintas narrativas. Con años de entrenamiento sólido en la observación y el dibujo constante\, Martin ha creado una relación fluida y simbiótica con el modelo como musa. Martín Campos espera que con este taller\, pueda trasladarte este conocimiento. \nQUE APRENDERÁ EL ESTUDIANTE \n\nUn sentido completo sobre cómo hacer existir una forma sobre un sustrato. El misterio de cómo resolver problemas de proporciones quedará claro.\nUn fuerte sentido del gesto que Martin considera la «sangre vital» y el «motor» detrás de la entidad de la figura. En el modo gestual\, se prestará especial atención a la estructura esquelética y al fuerte papel que desempeña para detectar y crear el gesto abreviado.\nCómo hacer una figura fuertemente arraigada en 10 o menos trazos que es siempre el desafío. Abrir y «vaciar la forma» será la tarea\, y cómo utilizar el poder del minimalismo para generar memoria en el trabajo futuro sobre un modelo en particular.\nLa importancia de relacionarse con el modelo como ser humano con sentimientos y una vida y no como un «objeto» para dibujar o pintar. La importancia misma de la empatía y la presencia sentida del modelo para sumar fuerza al trabajo.\nCómo se relaciona la forma con la tensión superficial y el espacio. Se explorarán ciertos aspectos de la postura que traspasan el espacio y causan tensión con su entorno.\nTratar narraciones que son difíciles de creer y cómo hacerlas creíbles en sí mismas y aceptar una historia.\n\n\n\n\n\nDescubre mas sobre Martin Campos\n \nDescarga el programa en Español en el siguiente link: \nMartin Campos II\nDownload the english program in the following link: \nMartin Campos II english
URL:https://www.theartdiggerlab.com/en/evento/martin-campos-ii/
LOCATION:Atelier Villeneuve\, c/ Salaberry\, 89\, Madrid\, Madrid\, 28019\, España
CATEGORIES:Martin Campos,Workshop de pintura
ATTACH;FMTTYPE=image/jpeg:https://www.theartdiggerlab.com/wp-content/uploads/2019/02/MCampos2.jpeg
END:VEVENT
BEGIN:VEVENT
DTSTART;VALUE=DATE:20190916
DTEND;VALUE=DATE:20190919
DTSTAMP:20260423T202228
CREATED:20190221T120340Z
LAST-MODIFIED:20190604T150349Z
UID:3814-1568599200-1568771999@www.theartdiggerlab.com
SUMMARY:Martin Campos I
DESCRIPTION:Workshop de Dibujo\nSolo 12 plazas\n“Dibujando la forma”\n\nEste workshop forma parte de una bilogía que Martin Campos va a impartir en Madrid. Aunque los estudiantes pueden elegir asistir a uno de los workshops de forma independiente\, éstos están diseñados para complementarse mutuamente. \nCONTENIDO y OBJETIVOS: \n\n\n\n\nCONTENIDO: \n\n\n\n\nEn este taller\, el artista\, basado en Filadelfia\, Arcenio Martín Campos retará al estudiante a empujar las fronteras artísticas del modo en que uno ve la figura humana.\nTrabajando directamente desde la observación o la referencia fotográfica del modelo y a un ritmo rápido\, los estudiantes entenderán cómo usar la memoria y la velocidad para obtener la mejor ventaja en su trabajo. Los estudios de figuras individuales y las composiciones de espacios con figuras se explorarán en función de los objetivos individuales de cada estudiante. \nEl núcleo del trabajo de Martín Campos gira alrededor de la figura\, observada directamente\, y como punto de partida para las distintas narrativas. Con años de entrenamiento sólido en la observación y el dibujo constante\, Martin ha creado una relación fluida y simbiótica con el modelo como musa. Martín Campos espera que con este taller\, pueda trasladarte este conocimiento. \nQUE APRENDERÁ EL ESTUDIANTE \n\nUn sentido completo sobre cómo hacer existir una forma sobre un sustrato. El misterio de cómo resolver problemas de proporciones quedará claro.\nUn fuerte sentido del gesto que Martin considera la «sangre vital» y el «motor» detrás de la entidad de la figura. En el modo gestual\, se prestará especial atención a la estructura esquelética y al fuerte papel que desempeña para detectar y crear el gesto abreviado.\nCómo hacer una figura fuertemente arraigada en 10 o menos trazos que es siempre el desafío. Abrir y «vaciar la forma» será la tarea\, y cómo utilizar el poder del minimalismo para generar memoria en el trabajo futuro sobre un modelo en particular.\nLa importancia de relacionarse con el modelo como ser humano con sentimientos y una vida y no como un «objeto» para dibujar o pintar. La importancia misma de la empatía y la presencia sentida del modelo para sumar fuerza al trabajo.\nCómo se relaciona la forma con la tensión superficial y el espacio. Se explorarán ciertos aspectos de la postura que traspasan el espacio y causan tensión con su entorno.\nTratar narraciones que son difíciles de creer y cómo hacerlas creíbles en sí mismas y aceptar una historia.\n\n\n\n\n\nDescubre mas sobre Martin Campos\n \nDescarga el programa en Español en el siguiente link: \nMartin Campos I\nDownload the english program in the following link: \nMartin Campos I english
URL:https://www.theartdiggerlab.com/en/evento/martin-campos-i/
LOCATION:Atelier Villeneuve\, c/ Salaberry\, 89\, Madrid\, Madrid\, 28019\, España
CATEGORIES:Martin Campos,Workshop de dibujo
ATTACH;FMTTYPE=image/jpeg:https://www.theartdiggerlab.com/wp-content/uploads/2019/02/17362588-10155140997613007-8266381557896472056-n_orig.jpg
END:VEVENT
END:VCALENDAR