BEGIN:VCALENDAR
VERSION:2.0
PRODID:-//theartdiggerlab - ECPv6.15.1.1//NONSGML v1.0//EN
CALSCALE:GREGORIAN
METHOD:PUBLISH
X-WR-CALNAME:theartdiggerlab
X-ORIGINAL-URL:https://www.theartdiggerlab.com/en
X-WR-CALDESC:Events for theartdiggerlab
REFRESH-INTERVAL;VALUE=DURATION:PT1H
X-Robots-Tag:noindex
X-PUBLISHED-TTL:PT1H
BEGIN:VTIMEZONE
TZID:Europe/Madrid
BEGIN:DAYLIGHT
TZOFFSETFROM:+0100
TZOFFSETTO:+0200
TZNAME:CEST
DTSTART:20180325T010000
END:DAYLIGHT
BEGIN:STANDARD
TZOFFSETFROM:+0200
TZOFFSETTO:+0100
TZNAME:CET
DTSTART:20181028T010000
END:STANDARD
END:VTIMEZONE
BEGIN:VEVENT
DTSTART;VALUE=DATE:20180224
DTEND;VALUE=DATE:20180227
DTSTAMP:20260423T234638
CREATED:20171109T163701Z
LAST-MODIFIED:20180311T203730Z
UID:2535-1519434000-1519606799@www.theartdiggerlab.com
SUMMARY:Ramón J. Freire
DESCRIPTION:Workshop de Tampografía\n“La tampografía como procedimiento de grabado”\nLos objetivos de este curso intensivo son: \n\nIntroducir al alumno en el mundo de la edición y estampación a través del sello y conocer de manera genérica aspectos relacionados con la tampografía\nDotar al alumno de nuevas herramientas y posibilidades de expresión y creación artística a través del sello\nOfrecer una nueva mirada\, a los conceptos de creación y edición\nEnseñar\, mostrar y ver un procedimiento relacionado con los procedimientos de grabado en relieve\nExperimentar diferentes maneras de concebir\, usar y tratar la matriz\, mediante la construcción del sello\nFomentar la disciplina y el trabajo tanto personal como grupal mediante el trabajo práctico\nMostrar las diferentes herramientas y materiales para elaboración del sello\nEstudiar el sello como un procedimiento de creación gráfica\nAcercar a través del sello\, el mundo y las posibilidades de creación que el grabado como procedimiento artístico ofrece.\n\nDescubre mas sobre Ramón J. Freire\n \nDescarga aquí el programa
URL:https://www.theartdiggerlab.com/en/evento/paco-castro-2-2/
LOCATION:Academia Azul de Cadmio\, c/ Lanuza\, 11\, Madrid\, Madrid\, 28028
CATEGORIES:Ramon Freire,Workshop de grabado
ATTACH;FMTTYPE=image/jpeg:https://www.theartdiggerlab.com/wp-content/uploads/2017/11/Taller_Tampo_RamonJFreire4-scaled.jpg
END:VEVENT
END:VCALENDAR