BEGIN:VCALENDAR
VERSION:2.0
PRODID:-//theartdiggerlab - ECPv6.15.1.1//NONSGML v1.0//EN
CALSCALE:GREGORIAN
METHOD:PUBLISH
X-WR-CALNAME:theartdiggerlab
X-ORIGINAL-URL:https://www.theartdiggerlab.com/en
X-WR-CALDESC:Events for theartdiggerlab
REFRESH-INTERVAL;VALUE=DURATION:PT1H
X-Robots-Tag:noindex
X-PUBLISHED-TTL:PT1H
BEGIN:VTIMEZONE
TZID:Europe/Madrid
BEGIN:DAYLIGHT
TZOFFSETFROM:+0100
TZOFFSETTO:+0200
TZNAME:CEST
DTSTART:20210328T010000
END:DAYLIGHT
BEGIN:STANDARD
TZOFFSETFROM:+0200
TZOFFSETTO:+0100
TZNAME:CET
DTSTART:20211031T010000
END:STANDARD
BEGIN:DAYLIGHT
TZOFFSETFROM:+0100
TZOFFSETTO:+0200
TZNAME:CEST
DTSTART:20220327T010000
END:DAYLIGHT
BEGIN:STANDARD
TZOFFSETFROM:+0200
TZOFFSETTO:+0100
TZNAME:CET
DTSTART:20221030T010000
END:STANDARD
END:VTIMEZONE
BEGIN:VEVENT
DTSTART;VALUE=DATE:20220902
DTEND;VALUE=DATE:20220919
DTSTAMP:20260423T211857
CREATED:20220604T135655Z
LAST-MODIFIED:20220604T135655Z
UID:7165-1662084000-1663466399@www.theartdiggerlab.com
SUMMARY:Ruprecht Von Kaufmann
DESCRIPTION:3 WEEKS ONLINE COURSE\nLimited places\n\n\n«PAINTING AND DRAWING FROM THE IMAGINATION»\n\n\nJOIN AN EXTRAORDINARY TEACHING EXPERIENCE\nWe are happy and proud to count with Ruprecht Von Kaufmann again\, this time to offer a complete online course about painting and drawing form the imagination. During 3 weeks Ruprecht will share with you his amazing knowledge and his personal vision on this subject. The course is aimed at any artist who wants to expand their vision about painting. Learning from a great artist like Ruprecht will expand your vision on painting and help you to find your own path and personal voice. \nThe course is a 3 weeks online experience during which you will be learning and working guided interactively by  Ruprecht. \n1st week: Module 1\n2nd week: module 2\n3rd week: Final session\nCOURSE CONTENT:\n«Over the years one of the questions I have been asked most frequently has been how do you learn to paint from the imagination and rely less on reference materials.  \nIn this course I will cover some basic first steps that will get you started on integrating your imagination and memory more into your painting practise. You will be introduced to exercises that will help to improve your observational skills\, but also help you to comprehend how to imagine a light source or move a shape in a three dimensional space. The class is meant to be a launching pad\, because painting and drawing from the imagination will take some practise. But it can be a very liberating and live changing experience for your painting practise in the long term» \n7 Online Sessions: You will have 7 days of live online sessions\, 6  live sessions a final one to discuss your preferred topics to wrap up the course. (See schedule in program) \nEach live session will last 2 hours where each artist will develop the specific teaching program. \nExercises program: The teacher will propose specific exercises during the live online sessions sharing with you lectures\, examples or demos and solving the questions that may arise. \nFeedback & Critique: You will get a feedback to your work from the teacher. \nQ&A: You will be able to ask all your questions during the time reserved for them in each online session. We will try to answer all individual or grouped questions both during the live events and those that you can send us offline when you submit your exercises. \nSyllabus: You will receive from the teacher a syllabus with process description\, material list\, proposed exercises\, etc.  \nVisual platform community: You will be part of a platform community containing all the resources and the participants uploads for you to learn also from your classmates and from Teacher comments. \nLearn more about:\nRuprecht von Kaufmann\n \n\nDownload the program in the following link:\nR V Kaufmann online course program Sept 22
URL:https://www.theartdiggerlab.com/en/evento/r-v-kaufmann-online-sept-2022/
LOCATION:ONLINE EVENT
CATEGORIES:Online course,Ruprecht von Kaufmann
ATTACH;FMTTYPE=image/jpeg:https://www.theartdiggerlab.com/wp-content/uploads/2021/03/Es-geht-Weiter.jpg
END:VEVENT
BEGIN:VEVENT
DTSTART;VALUE=DATE:20210409
DTEND;VALUE=DATE:20210504
DTSTAMP:20260423T211857
CREATED:20210305T124428Z
LAST-MODIFIED:20210305T124428Z
UID:5709-1617933600-1620007199@www.theartdiggerlab.com
SUMMARY:Dunford  ·  Kaufmann ·  Kelly
DESCRIPTION:4 WEEKS ONLINE COURSE\nLimited places\n\n\n«PAINTING VISIONS THREE APPROACHES»\n\n\nJOIN AN EXTRAORDINARY TEACHING EXPERIENCE\nThis is a new edition of the three artist approach type of event. Again we count with 3 extraordinary contemporary Artists  that come together to offer a complete online course. During 4 weeks these  artists will share with the attendants their personal vision on the art of painting. The course is aimed at any artist who wants to expand their vision about painting. Learning three points of view on the art of painting  will help you to find your own path and personal voice. \nThe course is a 4 weeks online experience during which you will be learning and working guided interactively by Mark\, Ruprecht and Brendan.  \nMark Dunford: “THE INVISIBLE GRID”\nRuprecht von Kaufmann: “COMPOSITION AS THE BACKBONE OF YOUR PAINTING”\nBrendan Kelly: “THE POWER OF SIMPLIFICATION”\nDunford · Kaufmann · Kelly: FINAL PANEL\nCOURSE CONTENT:\n10 Online Sessions: You will have 10 days of live online sessions\, 3 with each artist and a final one with a panel discussion between the three of them (See schedule in program) \nEach live session will last 2 hours where each artist will develop the specific teaching program. \nExercises program: Each Artist will propose specific exercises during the live online sessions sharing with you lectures\, examples or demos and solving the questions that may arise. \nFeedback & Critique: You will get a a general feedback to the group and a personal comment to your work from every teacher. \nQ&A: You will be able to ask all your questions during the time reserved for them in each online session. We will try to answer all individual or grouped questions both during the live events and those that you can send us offline when you submit your exercises. \nSyllabus: You will receive from each teacher a syllabus with process description\,\, material list\, etc.  \nVisual platform community: You will be part of a platform community containing all the resources and the participants uploads for you to learn also from your classmates and from Teachers comments. \nLearn more about:\nMark Dunford\nRuprecht von Kaufmann\nBrendan Kelly\n \n\nDownload the program in the following link:\nDunford/Kaufmann/Kelly online course program
URL:https://www.theartdiggerlab.com/en/evento/dunford-kaufmann-kelly-online-apr-2021/
LOCATION:ONLINE EVENT
CATEGORIES:Brendan Kelly,Mark Dunford,Online course,Ruprecht von Kaufmann
ATTACH;FMTTYPE=image/png:https://www.theartdiggerlab.com/wp-content/uploads/2021/03/Screenshot-2021-03-05-at-13.32.08.png
END:VEVENT
END:VCALENDAR