BEGIN:VCALENDAR
VERSION:2.0
PRODID:-//theartdiggerlab - ECPv6.15.1.1//NONSGML v1.0//EN
CALSCALE:GREGORIAN
METHOD:PUBLISH
X-ORIGINAL-URL:https://www.theartdiggerlab.com/en
X-WR-CALDESC:Events for theartdiggerlab
REFRESH-INTERVAL;VALUE=DURATION:PT1H
X-Robots-Tag:noindex
X-PUBLISHED-TTL:PT1H
BEGIN:VTIMEZONE
TZID:Europe/Madrid
BEGIN:DAYLIGHT
TZOFFSETFROM:+0100
TZOFFSETTO:+0200
TZNAME:CEST
DTSTART:20220327T010000
END:DAYLIGHT
BEGIN:STANDARD
TZOFFSETFROM:+0200
TZOFFSETTO:+0100
TZNAME:CET
DTSTART:20221030T010000
END:STANDARD
END:VTIMEZONE
BEGIN:VEVENT
DTSTART;VALUE=DATE:20220513
DTEND;VALUE=DATE:20220530
DTSTAMP:20260423T214644
CREATED:20220206T090605Z
LAST-MODIFIED:20220206T090605Z
UID:6857-1652407200-1653789599@www.theartdiggerlab.com
SUMMARY:Terry Powers  ·  Emilio Villalba
DESCRIPTION:3 WEEKS ONLINE COURSE\nLimited places\n\n«STRUGGLES AND MINI VICTORIES«\n\n\nJOIN AN EXTRAORDINARY TEACHING EXPERIENCE\nIn May 2022 two great contemporary artists\,  Terry Powers and Emilio Villalba come together to offer a complete online course. During 3 weeks these extraordinary artists will share with the attendants their personal vision on the exploration of the painting process. The course is aimed at any artist who wants to expand their wisdom about painting. Learning from different points of view will help you to find your own path and personal voice. \nThe course is 3 weeks long during which you will be learning and working guided interactively by Terry and Emilio.  \nThe course is aimed for a limited group of 150 places max and comprises: \n7 Online Sessions: You will have 7 days of live online sessions\, 3 with each artist and a final one with a panel discussion with them (See schedule in next page) \nEach live session will last 2 hours where each artist will develop the specific teaching program. \nRecordings of the sessions will be available during several days to catch up and review. \nExercises program: Each Artist will propose specific exercises during the live online sessions sharing with you lectures\, examples or demos and solving the questions that may arise. \nFeedback & Critique: From the deadline of receipt of each of your exercises  you will receive a personal short feedback to your work from every teacher. \nQ&A: You will be able to ask all your questions during the time reserved for them in each online session. We will try to answer all individual or grouped questions both during the live events and those that you can send us offline when you submit your exercises. \nSyllabus: You will receive from each teacher a syllabus with exercise description\, material list\, etc.  \nVisual platform community: You will be part of a platform visual community containing all the resources and the participants uploads for you to learn also from your classmates and from Teachers comments. \nLearn more about:\nTerry Powers\nEmilio Villalba\n \nDownload the program in the following link:\nPowers/Villalba online course program 2022
URL:https://www.theartdiggerlab.com/en/evento/powers-villalba-2022/
LOCATION:ONLINE EVENT
CATEGORIES:Emilio Villalba,Online course,Terry Powers
ATTACH;FMTTYPE=image/png:https://www.theartdiggerlab.com/wp-content/uploads/2022/02/Screenshot-2022-02-06-at-09.48.21.png
END:VEVENT
END:VCALENDAR