BEGIN:VCALENDAR
VERSION:2.0
PRODID:-//theartdiggerlab - ECPv6.15.1.1//NONSGML v1.0//EN
CALSCALE:GREGORIAN
METHOD:PUBLISH
X-WR-CALNAME:theartdiggerlab
X-ORIGINAL-URL:https://www.theartdiggerlab.com/en
X-WR-CALDESC:Events for theartdiggerlab
REFRESH-INTERVAL;VALUE=DURATION:PT1H
X-Robots-Tag:noindex
X-PUBLISHED-TTL:PT1H
BEGIN:VTIMEZONE
TZID:Europe/Madrid
BEGIN:DAYLIGHT
TZOFFSETFROM:+0100
TZOFFSETTO:+0200
TZNAME:CEST
DTSTART:20180325T010000
END:DAYLIGHT
BEGIN:STANDARD
TZOFFSETFROM:+0200
TZOFFSETTO:+0100
TZNAME:CET
DTSTART:20181028T010000
END:STANDARD
END:VTIMEZONE
BEGIN:VEVENT
DTSTART;VALUE=DATE:20180630
DTEND;VALUE=DATE:20180703
DTSTAMP:20260423T230559
CREATED:20171126T132425Z
LAST-MODIFIED:20180323T185620Z
UID:2649-1530324000-1530496799@www.theartdiggerlab.com
SUMMARY:Vicente García Lázaro
DESCRIPTION:Workshop de pintura\n“El Paisaje Urbano: Una Mirada Nueva”\n\nEl taller está centrado en la comprensión pictórica del nuevo paisaje urbano extraído de medios tan actuales como internet. Las imágenes cotidianas se nos transformarán con criterios plásticos en pura pintura. El trabajo en el taller se basará fundamentalmente en la tradicional técnica del temple al huevo\, para integrar la cotidianidad actual a la pintura como hicieron los grandes maestros de la época. Nos empaparemos totalmente de los recursos propios de la técnica tales como la preparación idónea del soporte\, un encaje de dibujo sencillo\, el trabajo de transparencias\, al ajuste cromático de las primeras capas según criterios de saturación\, correcciones\, superposición de capas y empastado. Lo importante es sintetizar y dominar una técnica que nos va a abrir muchos recursos expresivos. \nDescubre mas sobre Vicente García Lázaro\n \n  \nDescarga el programa en español el siguiente link: \n\n	Programa Vicente García Lázaro\n\n 
URL:https://www.theartdiggerlab.com/en/evento/vicente-garcia-lazaro/
LOCATION:Academia Azul de Cadmio\, c/ Lanuza\, 11\, Madrid\, Madrid\, 28028
CATEGORIES:Vicente Garcia Lazaro,Workshop de pintura
ATTACH;FMTTYPE=image/jpeg:https://www.theartdiggerlab.com/wp-content/uploads/2017/11/Morningside-Heights.jpg
END:VEVENT
END:VCALENDAR