BEGIN:VCALENDAR
VERSION:2.0
PRODID:-//theartdiggerlab - ECPv6.15.1.1//NONSGML v1.0//EN
CALSCALE:GREGORIAN
METHOD:PUBLISH
X-WR-CALNAME:theartdiggerlab
X-ORIGINAL-URL:https://www.theartdiggerlab.com/en
X-WR-CALDESC:Events for theartdiggerlab
REFRESH-INTERVAL;VALUE=DURATION:PT1H
X-Robots-Tag:noindex
X-PUBLISHED-TTL:PT1H
BEGIN:VTIMEZONE
TZID:Europe/Madrid
BEGIN:DAYLIGHT
TZOFFSETFROM:+0100
TZOFFSETTO:+0200
TZNAME:CEST
DTSTART:20200329T010000
END:DAYLIGHT
BEGIN:STANDARD
TZOFFSETFROM:+0200
TZOFFSETTO:+0100
TZNAME:CET
DTSTART:20201025T010000
END:STANDARD
BEGIN:DAYLIGHT
TZOFFSETFROM:+0100
TZOFFSETTO:+0200
TZNAME:CEST
DTSTART:20210328T010000
END:DAYLIGHT
BEGIN:STANDARD
TZOFFSETFROM:+0200
TZOFFSETTO:+0100
TZNAME:CET
DTSTART:20211031T010000
END:STANDARD
BEGIN:DAYLIGHT
TZOFFSETFROM:+0100
TZOFFSETTO:+0200
TZNAME:CEST
DTSTART:20220327T010000
END:DAYLIGHT
BEGIN:STANDARD
TZOFFSETFROM:+0200
TZOFFSETTO:+0100
TZNAME:CET
DTSTART:20221030T010000
END:STANDARD
BEGIN:DAYLIGHT
TZOFFSETFROM:+0100
TZOFFSETTO:+0200
TZNAME:CEST
DTSTART:20230326T010000
END:DAYLIGHT
BEGIN:STANDARD
TZOFFSETFROM:+0200
TZOFFSETTO:+0100
TZNAME:CET
DTSTART:20231029T010000
END:STANDARD
BEGIN:DAYLIGHT
TZOFFSETFROM:+0100
TZOFFSETTO:+0200
TZNAME:CEST
DTSTART:20240331T010000
END:DAYLIGHT
BEGIN:STANDARD
TZOFFSETFROM:+0200
TZOFFSETTO:+0100
TZNAME:CET
DTSTART:20241027T010000
END:STANDARD
BEGIN:DAYLIGHT
TZOFFSETFROM:+0100
TZOFFSETTO:+0200
TZNAME:CEST
DTSTART:20250330T010000
END:DAYLIGHT
BEGIN:STANDARD
TZOFFSETFROM:+0200
TZOFFSETTO:+0100
TZNAME:CET
DTSTART:20251026T010000
END:STANDARD
END:VTIMEZONE
BEGIN:VEVENT
DTSTART;VALUE=DATE:20250307
DTEND;VALUE=DATE:20250331
DTSTAMP:20260423T202228
CREATED:20240925T162737Z
LAST-MODIFIED:20250301T111833Z
UID:7807-1741309200-1743296399@www.theartdiggerlab.com
SUMMARY:Bononi  ·  Desiderio ·  Kelly March 2025
DESCRIPTION:4 WEEKS ONLINE COURSE\nLimited places\n\n«Pictorial Organisation; Space\, Color and Form»\n\n\n\nJOIN AN EXTRAORDINARY TEACHING EXPERIENCE\n\n\n\n\nIn November 2024 three outstanding contemporary artists come together to offer an extraordinary online course. During 4 weeks Lucas Bononi\, Vincent Desiderio and Brendan Kelly will share with the attendants their personal vision on pictorial organisation\, space\, color and form. The course is aimed at any artist who wants to expand their wisdom about painting. Learning three points of view on the art of painting will help you to find your own path and personal voice. \nThe course is one month long during which you will be learning and working guided interactively by Martin\, Patrick and Claudia with the following program: \n\n\n\n\nVincent Desiderio: “COMPOSITION AND TECHNICAL NARRATIVE”\nLucas Bononi: “ACADEMIC EXPRESSIONISM”\nBrendan kelly: “EXPRESSION TROUGH COMPOSITION”\nBononi · Desiderio · Kelly: Final panel\nCOURSE CONTENT:\nThe course is aimed for a limited group of 150 places max and comprises: \n10 Online Sessions: You will have 10 days of 2 hours live online sessions\, 3 with each artist and a final one with a panel discussion between the three of them (See schedule in program) \nRecorded Sessions: All sessions will be recorded and available for you to watch during the whole course in case you can not attend any live session. \nExercises program: Each Artist will propose specific exercises during the live online sessions sharing with you lectures\, examples or demos and solving the questions that may arise. \nFeedback & Critique: From the deadline of receipt of each of your exercises  you will receive a personal short feedback to your work from every teacher \nQ&A: You will be able to ask all your questions during the time reserved for them in each online session. We will try to answer all individual or grouped questions both during the live events and those that you can send us offline when you submit your exercises. \nSyllabus: You will receive from each teacher a syllabus with process description\, material list\, etc.  \nVisual platform community: You will be part of a platform community containing all the resources and the participants uploads for you to learn also from your classmates and from Teachers comments. \nLearn more about:\nLucas Bononi\nVincent Desiderio\nBrendan Kelly\n \n\nDownload the program in the following link:\nBononi/Desiderio/Kelly online course program 2025
URL:https://www.theartdiggerlab.com/en/evento/bononi-%c2%b7-desiderio-%c2%b7-kelly-march-2025/
LOCATION:ONLINE EVENT
CATEGORIES:Brendan Kelly,Lucas Bononi,Online course,Vincent Desiderio
ATTACH;FMTTYPE=image/png:https://www.theartdiggerlab.com/wp-content/uploads/2024/09/Untitled-800-x-450-px.png
END:VEVENT
BEGIN:VEVENT
DTSTART;VALUE=DATE:20210212
DTEND;VALUE=DATE:20210308
DTSTAMP:20260423T202228
CREATED:20201217T045642Z
LAST-MODIFIED:20201217T045642Z
UID:5491-1613091600-1615078799@www.theartdiggerlab.com
SUMMARY:Vincent Desiderio/ 2 modules online course
DESCRIPTION:An online Workshop for painters\n2 Modules\nFORM AND COLOR IN PAINTING\nLESSONS FROM HISTORY FOR MODERN PAINTERS\n\nJOIN AN EXTRAORDINARY LEARNING EXPERIENCE \nThis is an excellent way to learn from great artists in the comfort of your own home or studio. We believe that these online classes are a perfect complement to the face to face workshops events we organise in our Atelier in Madrid. \nThis 2 modules course will keep you engaged for 3 weeks\, learning and working\, guided interactively by the teacher.  The course is aimed at artists who want to expand their vision about painting. \nYou will get: \n 7 live online Sessions \nExercise program \nFeedback & Critique \nQ&A \nSyllabus \nExchange visual platform \n  \nVincent Desiderio is not only a contemporary Painting master. His profound knowledge of Art history and techniques and his ability to share them will help you to understand the big questions that every artist wonder about.  This will help you to grow and to find your own pathway and voice as an artist. \nFirst week Module I \nForm and its evolution in painting \nExercises will be centered about creating a convincing illusion of light and articulated form. The origins of forms\, privilege as originating in perspective\, will be discussed as well as the optics of illumination from Baroque painting to Modern approaches like Malevich\, Beekman and DeKooning.. \nSecond week Module II \nColor and its evolution in painting \nThe second week will be about color\, from its denigration  before Delacroix to its triumph in modernity.Theory related to optical “truth” and symbolic “meaning” will be discussed. Students will be asked to create a work emphasizing color over form. This will be based on their first project as a complimentary task. \nExercises & Feedback \nIn both modules\, specific exercises will be proposed to grasp the essential concepts that will be developed during the live online sessions.  You will have 5 days after each module to work on your own studio and at the end you will upload your work to our website School visual Platform.  There\, you will interact and receive feedback from the teacher and other participants for you to learn also from your classmates work and exchange comments with them. \nDescubre mas sobre Vincent Desiderio\n \nDownload the english program in the following link: \nVincent Desiderio 2 modules online course
URL:https://www.theartdiggerlab.com/en/evento/vincent-desiderio-march-2021/
LOCATION:ONLINE EVENT
CATEGORIES:A workshop for painters,Online course,Vincent Desiderio
ATTACH;FMTTYPE=image/jpeg:https://www.theartdiggerlab.com/wp-content/uploads/2018/02/bride.jpg
END:VEVENT
BEGIN:VEVENT
DTSTART;VALUE=DATE:20200220
DTEND;VALUE=DATE:20200223
DTSTAMP:20260423T202228
CREATED:20191030T194507Z
LAST-MODIFIED:20191030T195935Z
UID:4328-1582160400-1582333199@www.theartdiggerlab.com
SUMMARY:Vincent Desiderio 2
DESCRIPTION:Workshop de pintura\n“La ansiedad de la influencia”\n  \n\n\n\n\n\n\n\n\nOBJETIVOS Y CONTENIDO \nUno de los problemas más arduos para un artista es encontrar su propio camino individual. Durante el desarrollo de la propia voz personal\, las influencias de otras referencias artísticas admiradas pueden causar lo que podría definirse como “la ansiedad de la influencia”. \nEn este taller Vincent Desiderio se enfocará en despertar en el artista participante su práctica pictórica individual.  Vincent te ayudará a aprender como confiar en tu voz personal con tus métodos preferidos.  \nSe presentara una charla sobre la originalidad y la ansiedad de la influencia. \nTrabajaremos con modelo en vivo y habrá demostraciones del maestro \n\n\n\n\n. \n\n\n\n\nDescubre mas sobre Vincent Desiderio\n \n  \nDescarga el programa en español en el siguiente enlace: \n\n	Vincent Desiderio 2 feb 2020 spanish\n\nDownload the english program in the following link: \n\n	Vincent Desiderio 2 english
URL:https://www.theartdiggerlab.com/en/evento/vincent-desiderio-2/
LOCATION:Atelier Villeneuve\, c/ Salaberry\, 89\, Madrid\, Madrid\, 28019\, España
CATEGORIES:Vincent Desiderio,Workshop de pintura
ATTACH;FMTTYPE=image/jpeg:https://www.theartdiggerlab.com/wp-content/uploads/2019/10/liberati.jpg
END:VEVENT
BEGIN:VEVENT
DTSTART;VALUE=DATE:20200217
DTEND;VALUE=DATE:20200220
DTSTAMP:20260423T202228
CREATED:20191030T193753Z
LAST-MODIFIED:20191030T193753Z
UID:4310-1581901200-1582073999@www.theartdiggerlab.com
SUMMARY:Vincent Desiderio 1
DESCRIPTION:Workshop de pintura\n“Luz y Opacidad”\n  \n\n\n\n\n\n\n\n\nOBJETIVOS Y CONTENIDO\nEn éste taller Vincent Desiderio tratará de los procedimientos técnicos básicos relativos al uso del método pictórico indirecto.\nEl alma de una pintura no es la narrativa (la historia) sino la narrativa técnica que implica extraer de los procedimientos técnicos el meollo del significado\, poniendo por lo tanto\, la mayor responsabilidad creativa en la manipulación de los materiales y en la historia de su desarrollo en la propia pintura. \nEn este contexto\, el manejo de la luz es uno de los aspectos más importantes. La práctica se focalizará en crear un estudio mediante el empleo de la luz. Se pondrá énfasis en la opacidad y la transparencia así como en la tonalidad y la temperatura. \nTrabajaremos con una variedad de métodos y materiales pero predominantemente óleos sobre papel imprimado con goma-laca.\nTrabajaremos con modelo en vivo y habrá demostraciones del maestro. \n\n\n\n\n. \n\n\n\n\nDescubre mas sobre Vincent Desiderio\n \n  \nDescarga el programa en español en el siguiente enlace: \n\n	Vincent Desiderio I feb 2020 spanish\n\nDownload the english program in the following link: \n\n	Vincent Desiderio 1 english
URL:https://www.theartdiggerlab.com/en/evento/vincent-desiderio-1/
LOCATION:Atelier Villeneuve\, c/ Salaberry\, 89\, Madrid\, Madrid\, 28019\, España
CATEGORIES:Vincent Desiderio,Workshop de pintura
ATTACH;FMTTYPE=image/jpeg:https://www.theartdiggerlab.com/wp-content/uploads/2019/10/an_allegory_of_painting.jpg
END:VEVENT
END:VCALENDAR